BEGIN:VCALENDAR
VERSION:2.0
PRODID:-//Dress for Success Arizona - ECPv6.15.16//NONSGML v1.0//EN
CALSCALE:GREGORIAN
METHOD:PUBLISH
X-ORIGINAL-URL:https://dfsphoenix.org
X-WR-CALDESC:Events for Dress for Success Arizona
REFRESH-INTERVAL;VALUE=DURATION:PT1H
X-Robots-Tag:noindex
X-PUBLISHED-TTL:PT1H
BEGIN:VTIMEZONE
TZID:America/Phoenix
BEGIN:STANDARD
TZOFFSETFROM:-0700
TZOFFSETTO:-0700
TZNAME:MST
DTSTART:20230101T000000
END:STANDARD
END:VTIMEZONE
BEGIN:VEVENT
DTSTART;TZID=America/Phoenix:20241019T180000
DTEND;TZID=America/Phoenix:20241019T220000
DTSTAMP:20260421T133948
CREATED:20240712T171540Z
LAST-MODIFIED:20241016T154726Z
UID:141495-1729360800-1729375200@dfsphoenix.org
SUMMARY:Runway for Success Sustainable Fashion Show & Designer Sale
DESCRIPTION:Please join us for our most anticipated annual celebration\, the Runway for Success Sustainable Fashion Show and VIP Designer Sale. \nBrought to you by Dress for Success Phoenix\, this fashionable signature event is not to be missed! Come rub elbows with fellow VIPs who support Dress for Success Phoenix’s life-changing programming that supports women on their path towards economic independence. \nThis year we are adding a new twist to our fashion show by putting Dress for Success Phoenix clients front and center as our models. So join us on the runway as they share inspiring stories of resilience and triumph. \nThe evening will feature dinner and live entertainment. Come dressed in black tie and embrace old Hollywood style! \n  \n \n \n \n  \nWatch Our 2023 Recap Video:\n  \n \n  \nThank You Sponsors!\n  \n\n\nPresenting Sponsor\n \nVIP Designer Sale Sponsor\n \n\nVIP Cocktail Reception Sponsor\n  \n \n\nDigital Equity Sponsor\n \n  \nPaddle Sponsor\n \nMedia Sponsor\n \n  \nFloral Sponsor (Courtesy of Debra Larson)\n \n  \nTravel Sponsor\n \n\nBlack & Gold Sponsors\n \n \n  \n \n  \n \n \n \n  \nTable Sponsors\n       \n\n\nSupporters
URL:https://dfsphoenix.org/event/runway-for-success-sustainable-fashion-show-designer-sale/
LOCATION:Arizona Biltmore\, 2400 E. Missouri Ave.\, Phoenix\, AZ\, 85016
CATEGORIES:Signature Event
ATTACH;FMTTYPE=image/jpeg:https://dfsphoenix.org/wp-content/uploads/2024/07/DFS_Runway-for-Success-2024-Logo_June-2024.jpg
END:VEVENT
END:VCALENDAR