BEGIN:VCALENDAR
VERSION:2.0
PRODID:-//Dress for Success Arizona - ECPv6.15.16//NONSGML v1.0//EN
CALSCALE:GREGORIAN
METHOD:PUBLISH
X-ORIGINAL-URL:https://dfsphoenix.org
X-WR-CALDESC:Events for Dress for Success Arizona
REFRESH-INTERVAL;VALUE=DURATION:PT1H
X-Robots-Tag:noindex
X-PUBLISHED-TTL:PT1H
BEGIN:VTIMEZONE
TZID:America/Phoenix
BEGIN:STANDARD
TZOFFSETFROM:-0700
TZOFFSETTO:-0700
TZNAME:MST
DTSTART:20230101T000000
END:STANDARD
END:VTIMEZONE
BEGIN:VEVENT
DTSTART;TZID=America/Phoenix:20241020T090000
DTEND;TZID=America/Phoenix:20241020T150000
DTSTAMP:20260421T133951
CREATED:20241002T023858Z
LAST-MODIFIED:20241004T031306Z
UID:142258-1729414800-1729436400@dfsphoenix.org
SUMMARY:Runway for Success Public Designer Sale
DESCRIPTION:
URL:https://dfsphoenix.org/event/runway-for-success-public-designer-sale/
LOCATION:Arizona Biltmore\, 2400 E. Missouri Ave.\, Phoenix\, AZ\, 85016
CATEGORIES:Fundraiser,Signature Event
ATTACH;FMTTYPE=image/jpeg:https://dfsphoenix.org/wp-content/uploads/2024/10/DFS_Runway-for-Success-Public-Designer-Sale-Web-Thumb_September-2024.jpeg
END:VEVENT
END:VCALENDAR