BEGIN:VCALENDAR
VERSION:2.0
PRODID:-//Dress for Success Arizona - ECPv6.15.16//NONSGML v1.0//EN
CALSCALE:GREGORIAN
METHOD:PUBLISH
X-ORIGINAL-URL:https://dfsphoenix.org
X-WR-CALDESC:Events for Dress for Success Arizona
REFRESH-INTERVAL;VALUE=DURATION:PT1H
X-Robots-Tag:noindex
X-PUBLISHED-TTL:PT1H
BEGIN:VTIMEZONE
TZID:America/Phoenix
BEGIN:STANDARD
TZOFFSETFROM:-0700
TZOFFSETTO:-0700
TZNAME:MST
DTSTART:20240101T000000
END:STANDARD
END:VTIMEZONE
BEGIN:VEVENT
DTSTART;TZID=America/Phoenix:20250306T100000
DTEND;TZID=America/Phoenix:20250306T140000
DTSTAMP:20260421T013825
CREATED:20250207T192027Z
LAST-MODIFIED:20250207T192027Z
UID:142567-1741255200-1741269600@dfsphoenix.org
SUMMARY:The Workforce Initiative (TWI) - Buckeye Construction & Distribution Fair
DESCRIPTION:
URL:https://dfsphoenix.org/event/the-workforce-initiative-twi-buckeye-construction-distribution-fair/
LOCATION:AZ
END:VEVENT
END:VCALENDAR