BEGIN:VCALENDAR
VERSION:2.0
PRODID:-//Dress for Success Arizona - ECPv6.15.16//NONSGML v1.0//EN
CALSCALE:GREGORIAN
METHOD:PUBLISH
X-ORIGINAL-URL:https://dfsphoenix.org
X-WR-CALDESC:Events for Dress for Success Arizona
REFRESH-INTERVAL;VALUE=DURATION:PT1H
X-Robots-Tag:noindex
X-PUBLISHED-TTL:PT1H
BEGIN:VTIMEZONE
TZID:America/Phoenix
BEGIN:STANDARD
TZOFFSETFROM:-0700
TZOFFSETTO:-0700
TZNAME:MST
DTSTART:20240101T000000
END:STANDARD
END:VTIMEZONE
BEGIN:VEVENT
DTSTART;TZID=America/Phoenix:20250416T083000
DTEND;TZID=America/Phoenix:20250416T163000
DTSTAMP:20260421T031923
CREATED:20250402T123936Z
LAST-MODIFIED:20250402T123936Z
UID:143865-1744792200-1744821000@dfsphoenix.org
SUMMARY:Mobile Career Center - Statewide Symposium
DESCRIPTION:
URL:https://dfsphoenix.org/event/mobile-career-center-statewide-symposium/
LOCATION:Statewide Symposium\, 4340 E. Cotton Center BLVD\, Phoenix\, AZ\, 85040
END:VEVENT
BEGIN:VEVENT
DTSTART;TZID=America/Phoenix:20250416T100000
DTEND;TZID=America/Phoenix:20250416T133000
DTSTAMP:20260421T031923
CREATED:20250207T193748Z
LAST-MODIFIED:20250207T193748Z
UID:142598-1744797600-1744810200@dfsphoenix.org
SUMMARY:Career Services & ASMCC Job and Resource Fair
DESCRIPTION:
URL:https://dfsphoenix.org/event/career-services-asmcc-job-and-resource-fair/
LOCATION:Mesa Community College\, 1833 W Southern Ave\, Mesa\, AZ\, 85202
END:VEVENT
END:VCALENDAR