BEGIN:VCALENDAR
VERSION:2.0
PRODID:-//Dress for Success Arizona - ECPv6.15.16//NONSGML v1.0//EN
CALSCALE:GREGORIAN
METHOD:PUBLISH
X-WR-CALNAME:Dress for Success Arizona
X-ORIGINAL-URL:https://dfsphoenix.org
X-WR-CALDESC:Events for Dress for Success Arizona
REFRESH-INTERVAL;VALUE=DURATION:PT1H
X-Robots-Tag:noindex
X-PUBLISHED-TTL:PT1H
BEGIN:VTIMEZONE
TZID:America/Phoenix
BEGIN:STANDARD
TZOFFSETFROM:-0700
TZOFFSETTO:-0700
TZNAME:MST
DTSTART:20240101T000000
END:STANDARD
END:VTIMEZONE
BEGIN:VEVENT
DTSTART;TZID=America/Phoenix:20250422T080000
DTEND;TZID=America/Phoenix:20250422T150000
DTSTAMP:20260421T030741
CREATED:20250207T194028Z
LAST-MODIFIED:20250207T194028Z
UID:142603-1745308800-1745334000@dfsphoenix.org
SUMMARY:The Workforce Initiative (TWI) - Desert Edge High School
DESCRIPTION:
URL:https://dfsphoenix.org/event/the-workforce-initiative-twi-desert-edge-high-school/
LOCATION:Desert Edge High School\, 15778 W Yuma Rd\, Goodyear\, AZ\, 85338
END:VEVENT
END:VCALENDAR