BEGIN:VCALENDAR
VERSION:2.0
PRODID:-//Dress for Success Arizona - ECPv6.15.16//NONSGML v1.0//EN
CALSCALE:GREGORIAN
METHOD:PUBLISH
X-ORIGINAL-URL:https://dfsphoenix.org
X-WR-CALDESC:Events for Dress for Success Arizona
REFRESH-INTERVAL;VALUE=DURATION:PT1H
X-Robots-Tag:noindex
X-PUBLISHED-TTL:PT1H
BEGIN:VTIMEZONE
TZID:America/Phoenix
BEGIN:STANDARD
TZOFFSETFROM:-0700
TZOFFSETTO:-0700
TZNAME:MST
DTSTART:20250101T000000
END:STANDARD
END:VTIMEZONE
BEGIN:VEVENT
DTSTART;TZID=America/Phoenix:20260520T110000
DTEND;TZID=America/Phoenix:20260520T140000
DTSTAMP:20260422T125812
CREATED:20260120T034537Z
LAST-MODIFIED:20260120T034537Z
UID:145296-1779274800-1779285600@dfsphoenix.org
SUMMARY:Fast Track to Career Success: ROCK! Your Resumes and Profiles Presented By ADP
DESCRIPTION:
URL:https://dfsphoenix.org/event/fast-track-to-career-success-rock-your-resumes-and-profiles-presented-by-adp/
LOCATION:Dress for Success Arizona\, 3110 N. Central Ave.\, D-200\, Phoenix\, AZ\, 85012
CATEGORIES:Fast Track to Success
ORGANIZER;CN="Dress for Success Arizona":MAILTO:services@dressforsuccessphoenix.org
END:VEVENT
BEGIN:VEVENT
DTSTART;TZID=America/Phoenix:20260520T110000
DTEND;TZID=America/Phoenix:20260520T140000
DTSTAMP:20260422T125812
CREATED:20260402T202858Z
LAST-MODIFIED:20260402T202858Z
UID:145887-1779274800-1779285600@dfsphoenix.org
SUMMARY:Mobile Career Center: Arizona@Work Maricopa County
DESCRIPTION:
URL:https://dfsphoenix.org/event/mobile-career-center-arizonawork-maricopa-county/
LOCATION:Arizona@Work\, 1001 W. Southern Ave.\, Mesa\, AZ\, 85210
CATEGORIES:Mobile Career Center
END:VEVENT
BEGIN:VEVENT
DTSTART;TZID=America/Phoenix:20260520T130000
DTEND;TZID=America/Phoenix:20260520T150000
DTSTAMP:20260422T125812
CREATED:20260407T201623Z
LAST-MODIFIED:20260407T215817Z
UID:145898-1779282000-1779289200@dfsphoenix.org
SUMMARY:Glendale Satellite Studio: Pitch Perfect
DESCRIPTION:  \nRSVP HERE
URL:https://dfsphoenix.org/event/glendale-satellite-studio-pitch-perfect-2/
LOCATION:GESD System of Care Center\, 7677 W Bethany Home Rd\, Phoenix\, AZ\, 85303
CATEGORIES:Glendale Satellite Studio,Pitch Perfect
ORGANIZER;CN="Dress for Success Arizona":MAILTO:services@dressforsuccessphoenix.org
END:VEVENT
END:VCALENDAR