BEGIN:VCALENDAR
VERSION:2.0
PRODID:-//Dress for Success Arizona - ECPv6.15.16//NONSGML v1.0//EN
CALSCALE:GREGORIAN
METHOD:PUBLISH
X-WR-CALNAME:Dress for Success Arizona
X-ORIGINAL-URL:https://dfsphoenix.org
X-WR-CALDESC:Events for Dress for Success Arizona
REFRESH-INTERVAL;VALUE=DURATION:PT1H
X-Robots-Tag:noindex
X-PUBLISHED-TTL:PT1H
BEGIN:VTIMEZONE
TZID:America/Phoenix
BEGIN:STANDARD
TZOFFSETFROM:-0700
TZOFFSETTO:-0700
TZNAME:MST
DTSTART:20250101T000000
END:STANDARD
END:VTIMEZONE
BEGIN:VEVENT
DTSTART;TZID=America/Phoenix:20260119T080000
DTEND;TZID=America/Phoenix:20260119T170000
DTSTAMP:20260421T061149
CREATED:20260120T040216Z
LAST-MODIFIED:20260120T040216Z
UID:145325-1768809600-1768842000@dfsphoenix.org
SUMMARY:Mobile Career Center: Town of Gilbert Informational Fair
DESCRIPTION:
URL:https://dfsphoenix.org/event/mobile-career-center-town-of-gilbert-informational-fair/
LOCATION:HD South\, 10 S. Gilbert Rd.\, Gilbert\, AZ\, 85296
CATEGORIES:Mobile Career Center
END:VEVENT
END:VCALENDAR