BEGIN:VCALENDAR
VERSION:2.0
PRODID:-//Dress for Success Arizona - ECPv6.15.16//NONSGML v1.0//EN
CALSCALE:GREGORIAN
METHOD:PUBLISH
X-WR-CALNAME:Dress for Success Arizona
X-ORIGINAL-URL:https://dfsphoenix.org
X-WR-CALDESC:Events for Dress for Success Arizona
REFRESH-INTERVAL;VALUE=DURATION:PT1H
X-Robots-Tag:noindex
X-PUBLISHED-TTL:PT1H
BEGIN:VTIMEZONE
TZID:America/Phoenix
BEGIN:STANDARD
TZOFFSETFROM:-0700
TZOFFSETTO:-0700
TZNAME:MST
DTSTART:20230101T000000
END:STANDARD
END:VTIMEZONE
BEGIN:VEVENT
DTSTART;TZID=America/Phoenix:20250408T100000
DTEND;TZID=America/Phoenix:20250408T140000
DTSTAMP:20260419T120658
CREATED:20250402T122439Z
LAST-MODIFIED:20250402T122439Z
UID:143851-1744106400-1744120800@dfsphoenix.org
SUMMARY:Mobile Career Center - Glendale Community College
DESCRIPTION:
URL:https://dfsphoenix.org/event/mobile-career-center-glendale-community-college/
LOCATION:Glendale Community College\, 6000 W Olive Ave\, Glendale\, AZ\, 85302
END:VEVENT
BEGIN:VEVENT
DTSTART;TZID=America/Phoenix:20250408T090000
DTEND;TZID=America/Phoenix:20250408T130000
DTSTAMP:20260419T120658
CREATED:20250207T193535Z
LAST-MODIFIED:20250207T193535Z
UID:142592-1744102800-1744117200@dfsphoenix.org
SUMMARY:The Workforce Initiative (TWI) - Glendale Community College
DESCRIPTION:
URL:https://dfsphoenix.org/event/the-workforce-initiative-twi-glendale-community-college/
LOCATION:Glendale Community College\, 6000 W Olive Ave\, Glendale\, AZ\, 85302
END:VEVENT
BEGIN:VEVENT
DTSTART;TZID=America/Phoenix:20250405T080000
DTEND;TZID=America/Phoenix:20250405T143000
DTSTAMP:20260419T120658
CREATED:20250207T193401Z
LAST-MODIFIED:20250402T115424Z
UID:142589-1743840000-1743863400@dfsphoenix.org
SUMMARY:Mobile Career Center - Avondale Resource Fair
DESCRIPTION:
URL:https://dfsphoenix.org/event/mobile-career-center-avondale-resource-fair/
LOCATION:Arizona Complete Health Avondale Resource Center\, 995 E Riley Dr\, Avondale\, AZ\, 85323
END:VEVENT
BEGIN:VEVENT
DTSTART;TZID=America/Phoenix:20250402T100000
DTEND;TZID=America/Phoenix:20250402T143000
DTSTAMP:20260419T120658
CREATED:20250402T114518Z
LAST-MODIFIED:20250402T114518Z
UID:143842-1743588000-1743604200@dfsphoenix.org
SUMMARY:Mobile Career Center - Mesa Community College
DESCRIPTION:
URL:https://dfsphoenix.org/event/mobile-career-center-mesa-community-college/
LOCATION:Mobile Center – Mesa Community College\, 1833 W. Southern Avenue\, Mesa\, AZ\, 85202
END:VEVENT
BEGIN:VEVENT
DTSTART;TZID=America/Phoenix:20250402T100000
DTEND;TZID=America/Phoenix:20250402T123000
DTSTAMP:20260419T120658
CREATED:20250207T193222Z
LAST-MODIFIED:20250207T193222Z
UID:142587-1743588000-1743597000@dfsphoenix.org
SUMMARY:We Care & Working Wednesdays
DESCRIPTION:
URL:https://dfsphoenix.org/event/we-care-working-wednesdays-2/
LOCATION:Mesa Community College\, 1833 W Southern Ave\, Mesa\, AZ\, 85202
END:VEVENT
BEGIN:VEVENT
DTSTART;VALUE=DATE:20250401
DTEND;VALUE=DATE:20250402
DTSTAMP:20260419T120658
CREATED:20250323T042016Z
LAST-MODIFIED:20250323T042017Z
UID:143694-1743465600-1743551999@dfsphoenix.org
SUMMARY:Arizona Gives Day
DESCRIPTION:Support Women’s Success on Arizona Gives Day!\nOn Arizona Gives Day\, you have the power to change lives. Your donation to Dress for Success Phoenix provides women with professional attire\, career coaching\, and financial literacy programs—helping them achieve economic independence and build a brighter future. Every dollar counts in empowering women to step into new opportunities with confidence. Join us in making a lasting impact on Arizona Gives Day and invest in the success of women in our community. Give today and be a part of the movement! \nGIVE NOW
URL:https://dfsphoenix.org/event/arizona-gives-day/
LOCATION:Virtual
CATEGORIES:Fundraiser
ATTACH;FMTTYPE=image/jpeg:https://dfsphoenix.org/wp-content/uploads/2025/03/Copy-of-Arizona-Gives-Posts-Add-your-text.jpg
END:VEVENT
BEGIN:VEVENT
DTSTART;TZID=America/Phoenix:20250327T100000
DTEND;TZID=America/Phoenix:20250327T110000
DTSTAMP:20260419T120658
CREATED:20250207T193107Z
LAST-MODIFIED:20250207T193107Z
UID:142584-1743069600-1743073200@dfsphoenix.org
SUMMARY:The Workforce Initiative (TWI) - Barry Goldwater High School
DESCRIPTION:
URL:https://dfsphoenix.org/event/the-workforce-initiative-twi-barry-goldwater-high-school/
LOCATION:Barry Goldwater High School\, 2820 W Rose Ln\, Phoenix\, AZ\, 85027
END:VEVENT
BEGIN:VEVENT
DTSTART;TZID=America/Phoenix:20250326T110000
DTEND;TZID=America/Phoenix:20250326T140000
DTSTAMP:20260419T120658
CREATED:20250207T192936Z
LAST-MODIFIED:20250207T192936Z
UID:142581-1742986800-1742997600@dfsphoenix.org
SUMMARY:Fast Track to Success: What's Your Next?
DESCRIPTION:
URL:https://dfsphoenix.org/event/fast-track-to-success-whats-your-next-2/
LOCATION:Prestamos CDFI Women’s Business Center\, 1008 E Buckeye Rd\, Suite 215\, Phoenix\, AZ\, 85034
END:VEVENT
BEGIN:VEVENT
DTSTART;TZID=America/Phoenix:20250323T160000
DTEND;TZID=America/Phoenix:20250323T180000
DTSTAMP:20260419T120658
CREATED:20250211T173705Z
LAST-MODIFIED:20250318T205834Z
UID:142639-1742745600-1742752800@dfsphoenix.org
SUMMARY:Dress for Success Phoenix Women Who Inspire Reception
DESCRIPTION: 
URL:https://dfsphoenix.org/event/dress-for-success-phoenix-presents-women-who-inspire-hat-brunch/
LOCATION:Dress for Success Phoenix\, 3110 N Central Ave\, D-200\, Phoenix\, AZ\, 85012
CATEGORIES:Fundraiser
END:VEVENT
BEGIN:VEVENT
DTSTART;TZID=America/Phoenix:20250320T150000
DTEND;TZID=America/Phoenix:20250320T190000
DTSTAMP:20260419T120658
CREATED:20250207T192732Z
LAST-MODIFIED:20250207T192732Z
UID:142578-1742482800-1742497200@dfsphoenix.org
SUMMARY:Goodwill Career Expo hosted by City of Glendale
DESCRIPTION:
URL:https://dfsphoenix.org/event/goodwill-career-expo-hosted-by-city-of-glendale/
LOCATION:GESD System of Care Center\, 7677 W Bethany Home Rd\, Phoenix\, AZ\, 85303
END:VEVENT
BEGIN:VEVENT
DTSTART;TZID=America/Phoenix:20250320T090000
DTEND;TZID=America/Phoenix:20250320T235000
DTSTAMP:20260419T120658
CREATED:20250207T192558Z
LAST-MODIFIED:20250207T192558Z
UID:142575-1742461200-1742514600@dfsphoenix.org
SUMMARY:Spring PreDREAM
DESCRIPTION:
URL:https://dfsphoenix.org/event/spring-predream/
LOCATION:GateWay Community College-Washington Campus\, 108 N 40th St\, Phoenix\, AZ\, 85034
END:VEVENT
BEGIN:VEVENT
DTSTART;TZID=America/Phoenix:20250312T110000
DTEND;TZID=America/Phoenix:20250312T140000
DTSTAMP:20260419T120658
CREATED:20250207T192403Z
LAST-MODIFIED:20250207T192403Z
UID:142573-1741777200-1741788000@dfsphoenix.org
SUMMARY:Fast Track to Success: Nailing Your Interview
DESCRIPTION:
URL:https://dfsphoenix.org/event/fast-track-to-success-nailing-your-interview-4/
LOCATION:Dress for Success Phoenix 1024 E Buckeye Rd #240 Phoenix\, AZ 85034\, 1024 E Buckeye Rd\, Suite 240\, Phoenix\, AZ\, 85034
END:VEVENT
BEGIN:VEVENT
DTSTART;TZID=America/Phoenix:20250308T090000
DTEND;TZID=America/Phoenix:20250308T160000
DTSTAMP:20260419T120658
CREATED:20250206T170110Z
LAST-MODIFIED:20250206T170139Z
UID:142513-1741424400-1741449600@dfsphoenix.org
SUMMARY:Chicks Who Give A Hoot
DESCRIPTION:We are beyond thrilled to celebrate our incredible CEO\, Tamala McBath\, as she takes the stage at Chicks Who Give a Hoot LIVE on March 8th! 🎤✨\n\nThis event is all about bringing together powerhouse women—entrepreneurs\, leaders\, and changemakers—to connect\, inspire\, and amplify our collective impact.\n\nTamala’s leadership and passion for empowering women make her the perfect voice for this event\, and we can’t wait to hear her insights! If you’re looking for a space to reflect\, grow\, and make meaningful connections\, this is it.\n\nJoin us for a day of inspiring keynotes\, thought-provoking panels\, and an incredible community of women.\n\n🎟️ Grab your ticket now and be part of this unforgettable experience! Visit chickswhogiveahoot.com/live-event. Use code HOOT50 for an exclusive $50 off!
URL:https://dfsphoenix.org/event/chicks-who-give-a-hoot/
LOCATION:The Oasis at 2828\, 2828 N. Central Ave.\, Phoenix\, AZ\, 85004
CATEGORIES:Speaking Event
END:VEVENT
BEGIN:VEVENT
DTSTART;TZID=America/Phoenix:20250308T090000
DTEND;TZID=America/Phoenix:20250308T120000
DTSTAMP:20260419T120658
CREATED:20250207T192131Z
LAST-MODIFIED:20250207T192232Z
UID:142569-1741424400-1741435200@dfsphoenix.org
SUMMARY:Adelante Healthcare Spring Fling Health & Resource Fair
DESCRIPTION:
URL:https://dfsphoenix.org/event/adelante-healthcare-spring-fling-health-resource-fair/
LOCATION:Adelante Healthcare\, 15525 N 83rd Ave\, Suite 104\, Peoria\, AZ\, 85382
END:VEVENT
BEGIN:VEVENT
DTSTART;TZID=America/Phoenix:20250307T100000
DTEND;TZID=America/Phoenix:20250307T113000
DTSTAMP:20260419T120658
CREATED:20250211T173456Z
LAST-MODIFIED:20250211T173456Z
UID:142634-1741341600-1741347000@dfsphoenix.org
SUMMARY:International Women's Day Brunch
DESCRIPTION:To honor International Women’s Day by bringing together individuals who value connection\, collaboration and growth. Through a vibrant brunch\, meaningful networking and an engaging panel discussion\, this event seeks to share insights and inspire action. Our goal is to foster a supportive environment where dialogue and shared experiences pave the way for progress and impactful change.\n \nRegistration Link: https://www.tickettailor.com/events/daragibson/1534284
URL:https://dfsphoenix.org/event/international-womens-day-brunch/
LOCATION:la Madeleine\, 3615 W Chandler Blvd\, Chandler\, AZ\, 85226
CATEGORIES:Community Event
END:VEVENT
BEGIN:VEVENT
DTSTART;VALUE=DATE:20250307
DTEND;VALUE=DATE:20250310
DTSTAMP:20260419T120658
CREATED:20250306T175706Z
LAST-MODIFIED:20250306T181044Z
UID:143633-1741305600-1741564799@dfsphoenix.org
SUMMARY:DSW Give Back Shopping Event
DESCRIPTION:THIS WEEKEND\, SHOP FOR OUR CAUSE!\nExclusive Offer Valid March 7th – 9th\nVisit your local DSW store and present this offer for an exclusive discount for Dress for Success Phoenix supporters. \nYou can also round up your purchase at the register with proceeds donated to Dress for Success Worldwide. We appreciate your support! \nValid in-store only. \n  \n \n  \nFind Your Nearest Location
URL:https://dfsphoenix.org/event/shopdsw/
LOCATION:DSW
CATEGORIES:Fundraiser
END:VEVENT
BEGIN:VEVENT
DTSTART;TZID=America/Phoenix:20250306T100000
DTEND;TZID=America/Phoenix:20250306T140000
DTSTAMP:20260419T120658
CREATED:20250207T192027Z
LAST-MODIFIED:20250207T192027Z
UID:142567-1741255200-1741269600@dfsphoenix.org
SUMMARY:The Workforce Initiative (TWI) - Buckeye Construction & Distribution Fair
DESCRIPTION:
URL:https://dfsphoenix.org/event/the-workforce-initiative-twi-buckeye-construction-distribution-fair/
LOCATION:AZ
END:VEVENT
BEGIN:VEVENT
DTSTART;TZID=America/Phoenix:20250305T100000
DTEND;TZID=America/Phoenix:20250305T123000
DTSTAMP:20260419T120658
CREATED:20250207T191938Z
LAST-MODIFIED:20250207T191938Z
UID:142564-1741168800-1741177800@dfsphoenix.org
SUMMARY:We Care & Working Wednesdays
DESCRIPTION:
URL:https://dfsphoenix.org/event/we-care-working-wednesdays/
LOCATION:Mesa Community College\, 1833 W Southern Ave\, Mesa\, AZ\, 85202
END:VEVENT
BEGIN:VEVENT
DTSTART;TZID=America/Phoenix:20250303T090000
DTEND;TZID=America/Phoenix:20250303T130000
DTSTAMP:20260419T120658
CREATED:20250207T191811Z
LAST-MODIFIED:20250207T191811Z
UID:142561-1740992400-1741006800@dfsphoenix.org
SUMMARY:The Workforce Initiative (TWI) - Ironwood High School
DESCRIPTION:
URL:https://dfsphoenix.org/event/the-workforce-initiative-twi-ironwood-high-school/
LOCATION:Ironwood High School\, 6051 W Sweetwater Ave\, Glendale\, AZ\, 85304
END:VEVENT
BEGIN:VEVENT
DTSTART;TZID=America/Phoenix:20250301T090000
DTEND;TZID=America/Phoenix:20250301T130000
DTSTAMP:20260419T120658
CREATED:20250207T191630Z
LAST-MODIFIED:20250207T191630Z
UID:142559-1740819600-1740834000@dfsphoenix.org
SUMMARY:Maricopa County WIC Community Event
DESCRIPTION:
URL:https://dfsphoenix.org/event/maricopa-county-wic-community-event/
LOCATION:ASU Chandler Innovation Center\, 249 E. Chicago St\, Chandler\, AZ\, 85225
END:VEVENT
BEGIN:VEVENT
DTSTART;TZID=America/Phoenix:20250227T110000
DTEND;TZID=America/Phoenix:20250227T140000
DTSTAMP:20260419T120658
CREATED:20250207T182133Z
LAST-MODIFIED:20250207T182149Z
UID:142556-1740654000-1740664800@dfsphoenix.org
SUMMARY:Fast Track to Success: Rock Your Resume & Profiles
DESCRIPTION:
URL:https://dfsphoenix.org/event/fast-track-to-success-rock-your-resume-profiles/
LOCATION:Dress for Success Phoenix 1024 E Buckeye Rd #240 Phoenix\, AZ 85034\, 1024 E Buckeye Rd\, Suite 240\, Phoenix\, AZ\, 85034
END:VEVENT
BEGIN:VEVENT
DTSTART;TZID=America/Phoenix:20250224T083000
DTEND;TZID=America/Phoenix:20250224T103000
DTSTAMP:20260419T120658
CREATED:20250206T172609Z
LAST-MODIFIED:20250206T172609Z
UID:142519-1740385800-1740393000@dfsphoenix.org
SUMMARY:Phoenix Business Journal's 11th Annual Mentoring Monday
DESCRIPTION:Join us on February 24th at the Phoenix Business Journal’s 11th Annual Mentoring Monday\, where our very own CEO\, Tamala McBath\, will be among the region’s most influential female business leaders serving as a mentor!\n\nThis one-of-a-kind speed-mentoring event is designed for busy professionals who want to build relationships\, receive constructive feedback and expand their networks—all in an open-minded\, empowering atmosphere.\n\nNow more than ever\, women must take bold action to advocate for themselves\, and this is the perfect opportunity to learn from like-minded peers in the community.\n\nGrab a friend or co-worker and register today before tickets sell out!\n\n🔗 Buy now at https://www.bizjournals.com/phoenix/event/171038/2025/mentoring-monday. Use promo code “monday” for $10 off your ticket.\n\nAfter signing up\, share this opportunity with your network by tagging @phxbizjournal and using #MentoringMonday. See you there!
URL:https://dfsphoenix.org/event/phoenix-business-journals-11th-annual-mentoring-monday/
LOCATION:Arizona Biltmore Golf Club\, 2400 Biltmore Estates Dr\, Phoenix\, AZ\, 85016
CATEGORIES:Community Event
END:VEVENT
BEGIN:VEVENT
DTSTART;TZID=America/Phoenix:20250213T113000
DTEND;TZID=America/Phoenix:20250213T130000
DTSTAMP:20260419T120658
CREATED:20250207T181342Z
LAST-MODIFIED:20250207T181342Z
UID:142549-1739446200-1739451600@dfsphoenix.org
SUMMARY:Be Our Galentine! February 13 Celebration of Surprise Women Leaders
DESCRIPTION:
URL:https://dfsphoenix.org/event/be-our-galentine-february-13-celebration-of-surprise-women-leaders/
LOCATION:West Valley Arts Council\, 16126 N Civic Center Plaza\, Surprise\, AZ\, 85374
END:VEVENT
BEGIN:VEVENT
DTSTART;TZID=America/Phoenix:20250212T110000
DTEND;TZID=America/Phoenix:20250212T140000
DTSTAMP:20260419T120658
CREATED:20250207T174110Z
LAST-MODIFIED:20250207T174110Z
UID:142547-1739358000-1739368800@dfsphoenix.org
SUMMARY:Fast Track to Success: Nailing Your Interview
DESCRIPTION:
URL:https://dfsphoenix.org/event/fast-track-to-success-nailing-your-interview-3/
LOCATION:Dress for Success Phoenix\, 1024 E Buckeye Rd\, Suite 240\, Phoenix\, AZ\, 85034
END:VEVENT
BEGIN:VEVENT
DTSTART;TZID=America/Phoenix:20250211T143000
DTEND;TZID=America/Phoenix:20250211T163000
DTSTAMP:20260419T120658
CREATED:20250207T173609Z
LAST-MODIFIED:20250207T173644Z
UID:142544-1739284200-1739291400@dfsphoenix.org
SUMMARY:Invest In Girls Exploring Finance Career Workshop
DESCRIPTION:
URL:https://dfsphoenix.org/event/invest-in-girls-exploring-finance-career-workshop/
LOCATION:Valley Vista High School\, 1550 N. Parkview Place\, Surprise\, AZ\, 85374
END:VEVENT
BEGIN:VEVENT
DTSTART;TZID=America/Phoenix:20250210T100000
DTEND;TZID=America/Phoenix:20250210T150000
DTSTAMP:20260419T120658
CREATED:20250207T155513Z
LAST-MODIFIED:20250207T160132Z
UID:142526-1739181600-1739199600@dfsphoenix.org
SUMMARY:Mobile Career Center at UMOM
DESCRIPTION:
URL:https://dfsphoenix.org/event/mobile-career-center-at-umom/
LOCATION:UMOM New Day Centers\, 3333 E. Van Buren St.\, Phoenix\, AZ\, 85008
END:VEVENT
BEGIN:VEVENT
DTSTART;TZID=America/Phoenix:20250210T100000
DTEND;TZID=America/Phoenix:20250210T133000
DTSTAMP:20260419T120658
CREATED:20250207T173338Z
LAST-MODIFIED:20250207T173411Z
UID:142540-1739181600-1739194200@dfsphoenix.org
SUMMARY:Galentine's With Passion to PoweHer and AFHSD
DESCRIPTION:
URL:https://dfsphoenix.org/event/galentines-with-passion-to-poweher-and-afhsd/
LOCATION:Estrella Mountain Community College\, 3000 N. Dysart St.\, Avondale\, AZ\, 85392
END:VEVENT
BEGIN:VEVENT
DTSTART;TZID=America/Phoenix:20250129T110000
DTEND;TZID=America/Phoenix:20250129T140000
DTSTAMP:20260419T120658
CREATED:20250124T162530Z
LAST-MODIFIED:20250124T162857Z
UID:142485-1738148400-1738159200@dfsphoenix.org
SUMMARY:Bank On Arizona Economic Empowerment Expo
DESCRIPTION:  \nInterested in becoming a vendor\, click here to register.
URL:https://dfsphoenix.org/event/bank-on-arizona-economic-empowerment-expo/
LOCATION:Creighton University Health Sciences Campus\, 3100 N Central Ave\, Phoenix\, AZ\, 85012
CATEGORIES:Bank On Arizona
ATTACH;FMTTYPE=image/jpeg:https://dfsphoenix.org/wp-content/uploads/2025/01/Bank-On-Arizona-Expo-2160-x-1080-px.jpg
ORGANIZER;CN="Bank On Arizona":MAILTO:jessica@bankonaz.org
END:VEVENT
BEGIN:VEVENT
DTSTART;TZID=America/Phoenix:20250129T090000
DTEND;TZID=America/Phoenix:20250129T110000
DTSTAMP:20260419T120658
CREATED:20250124T162757Z
LAST-MODIFIED:20250124T162757Z
UID:142491-1738141200-1738148400@dfsphoenix.org
SUMMARY:Bank On Arizona Coalition Launch
DESCRIPTION:As the local host organization\, Dress for Success Phoenix invites you to join Bank On Arizona our upcoming official statewide launch event. This serves as a remarkable milestone in our mission to enhance financial opportunities for individuals and families across Arizona. \nThis event will take place on Wednesday\, January 29th at the Creighton University Health Sciences Campus (3100 N. Central Ave.\, Phoenix\, AZ 85012). The formal program will be from 9:00 am to 11:00 am. Our expo will begin immediately after and last until 2:00 pm. \nWe are hopeful to have the presence of mayors\, civic leaders and community advocates from across the state\, all gathered to celebrate this pivotal step forward in building a stronger financial future for Arizonans. We will also have national representatives from the Cities for Financial Empowerment Fund visiting us to see our progress first-hand. \nOver the past year\, we have worked tirelessly to establish the foundation for this initiative. Through the collective efforts of our Coalition members and partners\, we are now poised to take our mission outward\, fostering public engagement and providing the resources needed for financial empowerment. This launch represents a significant achievement for all of us\, and we are thrilled to share this moment with you. \nTo RSVP\, please email jessica@bankonaz.org. \nAdditionally\, we will be hosting our Economic Empowerment Expo for financial partners and community organizations to showcase their involvement with the Bank On movement. For those interested in participating\, please click here to complete the registration form. \nYour presence and support are vital to the success of this event and our ongoing efforts to strengthen financial inclusion and stability across Arizona. \nShould you have any questions or need further details\, please feel free to reach out to Jessica. \nThank you for your commitment to this shared vision. We look forward to celebrating this momentous occasion together!
URL:https://dfsphoenix.org/event/bank-on-arizona-coalition-launch/
LOCATION:Creighton University Health Sciences Campus\, 3100 N Central Ave\, Phoenix\, AZ\, 85012
CATEGORIES:Bank On Arizona
ATTACH;FMTTYPE=image/png:https://dfsphoenix.org/wp-content/uploads/2025/01/2-Bank-On-Arizona-Expo-2160-x-1080-px.png
ORGANIZER;CN="Bank On Arizona":MAILTO:jessica@bankonaz.org
END:VEVENT
BEGIN:VEVENT
DTSTART;TZID=America/Phoenix:20241211T110000
DTEND;TZID=America/Phoenix:20241211T140000
DTSTAMP:20260419T120658
CREATED:20240801T210127Z
LAST-MODIFIED:20240805T170212Z
UID:141602-1733914800-1733925600@dfsphoenix.org
SUMMARY:Fast Track to Success – ROCKSTAR Resumes & Profiles
DESCRIPTION:
URL:https://dfsphoenix.org/event/fast-track-to-success-rockstar-resumes-profiles/
LOCATION:Prestamos CDFI Women’s Business Center\, 1008 E Buckeye Rd Suite 215 Phoenix\, AZ 85034
CATEGORIES:Fast Track to Success
END:VEVENT
END:VCALENDAR