BEGIN:VCALENDAR
VERSION:2.0
PRODID:-//Dress for Success Arizona - ECPv6.15.16//NONSGML v1.0//EN
CALSCALE:GREGORIAN
METHOD:PUBLISH
X-WR-CALNAME:Dress for Success Arizona
X-ORIGINAL-URL:https://dfsphoenix.org
X-WR-CALDESC:Events for Dress for Success Arizona
REFRESH-INTERVAL;VALUE=DURATION:PT1H
X-Robots-Tag:noindex
X-PUBLISHED-TTL:PT1H
BEGIN:VTIMEZONE
TZID:America/Phoenix
BEGIN:STANDARD
TZOFFSETFROM:-0700
TZOFFSETTO:-0700
TZNAME:MST
DTSTART:20230101T000000
END:STANDARD
END:VTIMEZONE
BEGIN:VEVENT
DTSTART;TZID=America/Phoenix:20250213T113000
DTEND;TZID=America/Phoenix:20250213T130000
DTSTAMP:20260419T164307
CREATED:20250207T181342Z
LAST-MODIFIED:20250207T181342Z
UID:142549-1739446200-1739451600@dfsphoenix.org
SUMMARY:Be Our Galentine! February 13 Celebration of Surprise Women Leaders
DESCRIPTION:
URL:https://dfsphoenix.org/event/be-our-galentine-february-13-celebration-of-surprise-women-leaders/
LOCATION:West Valley Arts Council\, 16126 N Civic Center Plaza\, Surprise\, AZ\, 85374
END:VEVENT
BEGIN:VEVENT
DTSTART;TZID=America/Phoenix:20250212T110000
DTEND;TZID=America/Phoenix:20250212T140000
DTSTAMP:20260419T164307
CREATED:20250207T174110Z
LAST-MODIFIED:20250207T174110Z
UID:142547-1739358000-1739368800@dfsphoenix.org
SUMMARY:Fast Track to Success: Nailing Your Interview
DESCRIPTION:
URL:https://dfsphoenix.org/event/fast-track-to-success-nailing-your-interview-3/
LOCATION:Dress for Success Phoenix\, 1024 E Buckeye Rd\, Suite 240\, Phoenix\, AZ\, 85034
END:VEVENT
BEGIN:VEVENT
DTSTART;TZID=America/Phoenix:20250211T143000
DTEND;TZID=America/Phoenix:20250211T163000
DTSTAMP:20260419T164307
CREATED:20250207T173609Z
LAST-MODIFIED:20250207T173644Z
UID:142544-1739284200-1739291400@dfsphoenix.org
SUMMARY:Invest In Girls Exploring Finance Career Workshop
DESCRIPTION:
URL:https://dfsphoenix.org/event/invest-in-girls-exploring-finance-career-workshop/
LOCATION:Valley Vista High School\, 1550 N. Parkview Place\, Surprise\, AZ\, 85374
END:VEVENT
BEGIN:VEVENT
DTSTART;TZID=America/Phoenix:20250210T100000
DTEND;TZID=America/Phoenix:20250210T150000
DTSTAMP:20260419T164307
CREATED:20250207T155513Z
LAST-MODIFIED:20250207T160132Z
UID:142526-1739181600-1739199600@dfsphoenix.org
SUMMARY:Mobile Career Center at UMOM
DESCRIPTION:
URL:https://dfsphoenix.org/event/mobile-career-center-at-umom/
LOCATION:UMOM New Day Centers\, 3333 E. Van Buren St.\, Phoenix\, AZ\, 85008
END:VEVENT
BEGIN:VEVENT
DTSTART;TZID=America/Phoenix:20250210T100000
DTEND;TZID=America/Phoenix:20250210T133000
DTSTAMP:20260419T164307
CREATED:20250207T173338Z
LAST-MODIFIED:20250207T173411Z
UID:142540-1739181600-1739194200@dfsphoenix.org
SUMMARY:Galentine's With Passion to PoweHer and AFHSD
DESCRIPTION:
URL:https://dfsphoenix.org/event/galentines-with-passion-to-poweher-and-afhsd/
LOCATION:Estrella Mountain Community College\, 3000 N. Dysart St.\, Avondale\, AZ\, 85392
END:VEVENT
BEGIN:VEVENT
DTSTART;TZID=America/Phoenix:20250129T110000
DTEND;TZID=America/Phoenix:20250129T140000
DTSTAMP:20260419T164307
CREATED:20250124T162530Z
LAST-MODIFIED:20250124T162857Z
UID:142485-1738148400-1738159200@dfsphoenix.org
SUMMARY:Bank On Arizona Economic Empowerment Expo
DESCRIPTION:  \nInterested in becoming a vendor\, click here to register.
URL:https://dfsphoenix.org/event/bank-on-arizona-economic-empowerment-expo/
LOCATION:Creighton University Health Sciences Campus\, 3100 N Central Ave\, Phoenix\, AZ\, 85012
CATEGORIES:Bank On Arizona
ATTACH;FMTTYPE=image/jpeg:https://dfsphoenix.org/wp-content/uploads/2025/01/Bank-On-Arizona-Expo-2160-x-1080-px.jpg
ORGANIZER;CN="Bank On Arizona":MAILTO:jessica@bankonaz.org
END:VEVENT
BEGIN:VEVENT
DTSTART;TZID=America/Phoenix:20250129T090000
DTEND;TZID=America/Phoenix:20250129T110000
DTSTAMP:20260419T164307
CREATED:20250124T162757Z
LAST-MODIFIED:20250124T162757Z
UID:142491-1738141200-1738148400@dfsphoenix.org
SUMMARY:Bank On Arizona Coalition Launch
DESCRIPTION:As the local host organization\, Dress for Success Phoenix invites you to join Bank On Arizona our upcoming official statewide launch event. This serves as a remarkable milestone in our mission to enhance financial opportunities for individuals and families across Arizona. \nThis event will take place on Wednesday\, January 29th at the Creighton University Health Sciences Campus (3100 N. Central Ave.\, Phoenix\, AZ 85012). The formal program will be from 9:00 am to 11:00 am. Our expo will begin immediately after and last until 2:00 pm. \nWe are hopeful to have the presence of mayors\, civic leaders and community advocates from across the state\, all gathered to celebrate this pivotal step forward in building a stronger financial future for Arizonans. We will also have national representatives from the Cities for Financial Empowerment Fund visiting us to see our progress first-hand. \nOver the past year\, we have worked tirelessly to establish the foundation for this initiative. Through the collective efforts of our Coalition members and partners\, we are now poised to take our mission outward\, fostering public engagement and providing the resources needed for financial empowerment. This launch represents a significant achievement for all of us\, and we are thrilled to share this moment with you. \nTo RSVP\, please email jessica@bankonaz.org. \nAdditionally\, we will be hosting our Economic Empowerment Expo for financial partners and community organizations to showcase their involvement with the Bank On movement. For those interested in participating\, please click here to complete the registration form. \nYour presence and support are vital to the success of this event and our ongoing efforts to strengthen financial inclusion and stability across Arizona. \nShould you have any questions or need further details\, please feel free to reach out to Jessica. \nThank you for your commitment to this shared vision. We look forward to celebrating this momentous occasion together!
URL:https://dfsphoenix.org/event/bank-on-arizona-coalition-launch/
LOCATION:Creighton University Health Sciences Campus\, 3100 N Central Ave\, Phoenix\, AZ\, 85012
CATEGORIES:Bank On Arizona
ATTACH;FMTTYPE=image/png:https://dfsphoenix.org/wp-content/uploads/2025/01/2-Bank-On-Arizona-Expo-2160-x-1080-px.png
ORGANIZER;CN="Bank On Arizona":MAILTO:jessica@bankonaz.org
END:VEVENT
BEGIN:VEVENT
DTSTART;TZID=America/Phoenix:20241211T110000
DTEND;TZID=America/Phoenix:20241211T140000
DTSTAMP:20260419T164307
CREATED:20240801T210127Z
LAST-MODIFIED:20240805T170212Z
UID:141602-1733914800-1733925600@dfsphoenix.org
SUMMARY:Fast Track to Success – ROCKSTAR Resumes & Profiles
DESCRIPTION:
URL:https://dfsphoenix.org/event/fast-track-to-success-rockstar-resumes-profiles/
LOCATION:Prestamos CDFI Women’s Business Center\, 1008 E Buckeye Rd Suite 215 Phoenix\, AZ 85034
CATEGORIES:Fast Track to Success
END:VEVENT
BEGIN:VEVENT
DTSTART;TZID=America/Phoenix:20241120T110000
DTEND;TZID=America/Phoenix:20241120T140000
DTSTAMP:20260419T164307
CREATED:20240801T211017Z
LAST-MODIFIED:20240804T235133Z
UID:141623-1732100400-1732111200@dfsphoenix.org
SUMMARY:Fast Track to Success: What’s Your Next?
DESCRIPTION:
URL:https://dfsphoenix.org/event/fast-track-to-success-whats-your-next/
LOCATION:Dress for Success Phoenix\, 3110 N Central Ave\, D-200\, Phoenix\, AZ\, 85012
CATEGORIES:Fast Track to Success
END:VEVENT
BEGIN:VEVENT
DTSTART;TZID=America/Phoenix:20241106T110000
DTEND;TZID=America/Phoenix:20241106T140000
DTSTAMP:20260419T164307
CREATED:20240801T210858Z
LAST-MODIFIED:20240804T234523Z
UID:141618-1730890800-1730901600@dfsphoenix.org
SUMMARY:Fast Track to Success: Nailing Your Interview
DESCRIPTION:
URL:https://dfsphoenix.org/event/fast-track-to-success-nailing-your-interview/
LOCATION:Prestamos CDFI Women’s Business Center\, 1008 E Buckeye Rd Suite 215 Phoenix\, AZ 85034
CATEGORIES:Fast Track to Success
END:VEVENT
BEGIN:VEVENT
DTSTART;TZID=America/Phoenix:20241027T130000
DTEND;TZID=America/Phoenix:20241027T160000
DTSTAMP:20260419T164307
CREATED:20240801T210649Z
LAST-MODIFIED:20240804T231958Z
UID:141614-1730034000-1730044800@dfsphoenix.org
SUMMARY:Voices of Empowerment: Ending Domestic Violence
DESCRIPTION:Dress for Success Phoenix will have the opportunity to speak on stage our work and services. \nParticipants will not only highlight the crucial work they are doing but also offer a direct channel to support and education to those affected by domestic violence in our community. \nWe anticipate a diverse group of attendees\, including survivors\, advocates\, and community leaders\, all eager to learn more about the resources available to them.
URL:https://dfsphoenix.org/event/voices-of-empowerment-ending-domestic-violence/
LOCATION:Nile Theater\, 105 W Main St Mesa\, AZ 85210
CATEGORIES:Community Event
END:VEVENT
BEGIN:VEVENT
DTSTART;TZID=America/Phoenix:20241023T110000
DTEND;TZID=America/Phoenix:20241023T140000
DTSTAMP:20260419T164307
CREATED:20240801T210520Z
LAST-MODIFIED:20240804T231250Z
UID:141608-1729681200-1729692000@dfsphoenix.org
SUMMARY:Fast Track to Success - Branding YOU!
DESCRIPTION:
URL:https://dfsphoenix.org/event/fast-track-to-success-branding-you/
LOCATION:Prestamos CDFI Women’s Business Center\, 1008 E Buckeye Rd Suite 215 Phoenix\, AZ 85034
CATEGORIES:Fast Track to Success
END:VEVENT
BEGIN:VEVENT
DTSTART;TZID=America/Phoenix:20241020T090000
DTEND;TZID=America/Phoenix:20241020T150000
DTSTAMP:20260419T164307
CREATED:20241002T023858Z
LAST-MODIFIED:20241004T031306Z
UID:142258-1729414800-1729436400@dfsphoenix.org
SUMMARY:Runway for Success Public Designer Sale
DESCRIPTION:
URL:https://dfsphoenix.org/event/runway-for-success-public-designer-sale/
LOCATION:Arizona Biltmore\, 2400 E. Missouri Ave.\, Phoenix\, AZ\, 85016
CATEGORIES:Fundraiser,Signature Event
ATTACH;FMTTYPE=image/jpeg:https://dfsphoenix.org/wp-content/uploads/2024/10/DFS_Runway-for-Success-Public-Designer-Sale-Web-Thumb_September-2024.jpeg
END:VEVENT
BEGIN:VEVENT
DTSTART;TZID=America/Phoenix:20241019T180000
DTEND;TZID=America/Phoenix:20241019T220000
DTSTAMP:20260419T164307
CREATED:20240712T171540Z
LAST-MODIFIED:20241016T154726Z
UID:141495-1729360800-1729375200@dfsphoenix.org
SUMMARY:Runway for Success Sustainable Fashion Show & Designer Sale
DESCRIPTION:Please join us for our most anticipated annual celebration\, the Runway for Success Sustainable Fashion Show and VIP Designer Sale. \nBrought to you by Dress for Success Phoenix\, this fashionable signature event is not to be missed! Come rub elbows with fellow VIPs who support Dress for Success Phoenix’s life-changing programming that supports women on their path towards economic independence. \nThis year we are adding a new twist to our fashion show by putting Dress for Success Phoenix clients front and center as our models. So join us on the runway as they share inspiring stories of resilience and triumph. \nThe evening will feature dinner and live entertainment. Come dressed in black tie and embrace old Hollywood style! \n  \n \n \n \n  \nWatch Our 2023 Recap Video:\n  \n \n  \nThank You Sponsors!\n  \n\n\nPresenting Sponsor\n \nVIP Designer Sale Sponsor\n \n\nVIP Cocktail Reception Sponsor\n  \n \n\nDigital Equity Sponsor\n \n  \nPaddle Sponsor\n \nMedia Sponsor\n \n  \nFloral Sponsor (Courtesy of Debra Larson)\n \n  \nTravel Sponsor\n \n\nBlack & Gold Sponsors\n \n \n  \n \n  \n \n \n \n  \nTable Sponsors\n       \n\n\nSupporters
URL:https://dfsphoenix.org/event/runway-for-success-sustainable-fashion-show-designer-sale/
LOCATION:Arizona Biltmore\, 2400 E. Missouri Ave.\, Phoenix\, AZ\, 85016
CATEGORIES:Signature Event
ATTACH;FMTTYPE=image/jpeg:https://dfsphoenix.org/wp-content/uploads/2024/07/DFS_Runway-for-Success-2024-Logo_June-2024.jpg
END:VEVENT
BEGIN:VEVENT
DTSTART;TZID=America/Phoenix:20241014T090000
DTEND;TZID=America/Phoenix:20241014T103000
DTSTAMP:20260419T164307
CREATED:20240801T210347Z
LAST-MODIFIED:20240804T230221Z
UID:141604-1728896400-1728901800@dfsphoenix.org
SUMMARY:Paradise Valley Community College Public Safety Program Workshop (Mobile Career Center)
DESCRIPTION:
URL:https://dfsphoenix.org/event/mcc-pvcc-public-safety-program-workshop/
LOCATION:Paradise Valley Community College\, 18401 N 32nd St Phoenix\, AZ 85032
CATEGORIES:Mobile Career Center
END:VEVENT
BEGIN:VEVENT
DTSTART;TZID=America/Phoenix:20241010T110000
DTEND;TZID=America/Phoenix:20241010T130000
DTSTAMP:20260419T164307
CREATED:20240814T174712Z
LAST-MODIFIED:20240814T174712Z
UID:141877-1728558000-1728565200@dfsphoenix.org
SUMMARY:Fast Track to Success Workshop (Peoria) - Resume Revival
DESCRIPTION:
URL:https://dfsphoenix.org/event/fast-track-to-success-workshop-peoria-resume-revival/
LOCATION:Peoria Community Resource Center\, 8335 W. Jefferson St.\, Peoria\, AZ\, 85345
END:VEVENT
BEGIN:VEVENT
DTSTART;TZID=America/Phoenix:20241009T110000
DTEND;TZID=America/Phoenix:20241009T140000
DTSTAMP:20260419T164307
CREATED:20240801T211003Z
LAST-MODIFIED:20240804T225942Z
UID:141622-1728471600-1728482400@dfsphoenix.org
SUMMARY:Fast Track to Success - Nailing Your Interview
DESCRIPTION:
URL:https://dfsphoenix.org/event/fast-track-to-success-nailing-your-interview-2/
LOCATION:AZ
CATEGORIES:Fast Track to Success
END:VEVENT
BEGIN:VEVENT
DTSTART;TZID=America/Phoenix:20241003T090000
DTEND;TZID=America/Phoenix:20241003T140000
DTSTAMP:20260419T164307
CREATED:20240801T210546Z
LAST-MODIFIED:20240819T013014Z
UID:141605-1727946000-1727964000@dfsphoenix.org
SUMMARY:HOPE XVI
DESCRIPTION:
URL:https://dfsphoenix.org/event/hope-xvi/
LOCATION:Rio Vista Community Center\, 8866 W Thunderbird Rd. Peoria\, Arizona
CATEGORIES:Community Event
END:VEVENT
BEGIN:VEVENT
DTSTART;TZID=America/Phoenix:20240925T110000
DTEND;TZID=America/Phoenix:20240925T140000
DTSTAMP:20260419T164307
CREATED:20240801T214634Z
LAST-MODIFIED:20240804T225010Z
UID:141639-1727262000-1727272800@dfsphoenix.org
SUMMARY:Fast Track to Success – ROCKSTAR Resumes & Profiles
DESCRIPTION:
URL:https://dfsphoenix.org/event/fast-track-to-success-rockstar-resumes-profiles-2/
LOCATION:Prestamos CDFI Women’s Business Center\, 1008 E Buckeye Rd Suite 215 Phoenix\, AZ 85034
CATEGORIES:Fast Track to Success
END:VEVENT
BEGIN:VEVENT
DTSTART;TZID=America/Phoenix:20240924T093000
DTEND;TZID=America/Phoenix:20240924T150000
DTSTAMP:20260419T164307
CREATED:20240801T205856Z
LAST-MODIFIED:20240905T204751Z
UID:141583-1727170200-1727190000@dfsphoenix.org
SUMMARY:Suit & Salute
DESCRIPTION:
URL:https://dfsphoenix.org/event/suit-salute-2/
LOCATION:AZ
CATEGORIES:Signature Event
ATTACH;FMTTYPE=image/jpeg:https://dfsphoenix.org/wp-content/uploads/2024/08/DFS_Suit-and-Salute-Digital-Header_July-2024-scaled.jpeg
END:VEVENT
BEGIN:VEVENT
DTSTART;TZID=America/Phoenix:20240918T140000
DTEND;TZID=America/Phoenix:20240918T160000
DTSTAMP:20260419T164307
CREATED:20240814T174506Z
LAST-MODIFIED:20240814T174533Z
UID:141870-1726668000-1726675200@dfsphoenix.org
SUMMARY:Fast Track to Success Workshop (Mesa) - Rockstar Resumes
DESCRIPTION:
URL:https://dfsphoenix.org/event/fast-track-to-success-workshop-mesa-rockstar-resumes/
LOCATION:Mesa Chamber of Commerce\, 165 N. Centennial Way\, Suite 208\, Mesa\, AZ\, 85201
CATEGORIES:Fast Track to Success
END:VEVENT
BEGIN:VEVENT
DTSTART;TZID=America/Phoenix:20240911T110000
DTEND;TZID=America/Phoenix:20240911T140000
DTSTAMP:20260419T164307
CREATED:20240801T204807Z
LAST-MODIFIED:20240804T221943Z
UID:141551-1726052400-1726063200@dfsphoenix.org
SUMMARY:Fast Track to Success - Put the Muscle in Your Career
DESCRIPTION:
URL:https://dfsphoenix.org/event/fast-track-to-success-put-the-muscle-in-your-career/
LOCATION:AZ
CATEGORIES:Fast Track to Success
END:VEVENT
BEGIN:VEVENT
DTSTART;TZID=America/Phoenix:20240905T100000
DTEND;TZID=America/Phoenix:20240905T130000
DTSTAMP:20260419T164307
CREATED:20240801T205819Z
LAST-MODIFIED:20240804T221706Z
UID:141595-1725530400-1725541200@dfsphoenix.org
SUMMARY:Chandler-Gilbert Community College (Williams Campus) Student Work Job Fair (The Workforce Initiative)
DESCRIPTION:The Workforce Initiative powered by Dress for Success Phoenix will be on-site during the on-campus student worker job fair where students will learn about part-time and federal work study (FWS) positions available on campus at CGCC.
URL:https://dfsphoenix.org/event/cgc-hiring-event-williams-campus/
LOCATION:Chandler-Gilbert Community College Williams Campus\, 7360 E Tahoe Ave Mesa\, AZ 85212
CATEGORIES:The Workforce Initiative
END:VEVENT
END:VCALENDAR