BEGIN:VCALENDAR
VERSION:2.0
PRODID:-//Dress for Success Arizona - ECPv6.15.16//NONSGML v1.0//EN
CALSCALE:GREGORIAN
METHOD:PUBLISH
X-ORIGINAL-URL:https://dfsphoenix.org
X-WR-CALDESC:Events for Dress for Success Arizona
REFRESH-INTERVAL;VALUE=DURATION:PT1H
X-Robots-Tag:noindex
X-PUBLISHED-TTL:PT1H
BEGIN:VTIMEZONE
TZID:America/Phoenix
BEGIN:STANDARD
TZOFFSETFROM:-0700
TZOFFSETTO:-0700
TZNAME:MST
DTSTART:20240101T000000
END:STANDARD
END:VTIMEZONE
BEGIN:VEVENT
DTSTART;TZID=America/Phoenix:20250510T080000
DTEND;TZID=America/Phoenix:20250510T130000
DTSTAMP:20260419T114753
CREATED:20250207T194639Z
LAST-MODIFIED:20250207T194639Z
UID:142617-1746864000-1746882000@dfsphoenix.org
SUMMARY:Mobile Career Center - Mom's & More Day
DESCRIPTION:
URL:https://dfsphoenix.org/event/mobile-career-center-moms-more-day/
LOCATION:Avondale Baptist Church\, 1001 N Central Ave\, Avondale\, AZ\, 85323
END:VEVENT
BEGIN:VEVENT
DTSTART;TZID=America/Phoenix:20250514T110000
DTEND;TZID=America/Phoenix:20250514T140000
DTSTAMP:20260419T114753
CREATED:20250207T194741Z
LAST-MODIFIED:20250207T194741Z
UID:142620-1747220400-1747231200@dfsphoenix.org
SUMMARY:Fast Track to Success: Nailing Your Interview
DESCRIPTION:
URL:https://dfsphoenix.org/event/fast-track-to-success-nailing-your-interview-5/
LOCATION:Dress for Success Phoenix 1024 E Buckeye Rd #240 Phoenix\, AZ 85034\, 1024 E Buckeye Rd\, Suite 240\, Phoenix\, AZ\, 85034
END:VEVENT
BEGIN:VEVENT
DTSTART;TZID=America/Phoenix:20250528T110000
DTEND;TZID=America/Phoenix:20250528T140000
DTSTAMP:20260419T114753
CREATED:20250207T194905Z
LAST-MODIFIED:20250207T194905Z
UID:142622-1748430000-1748440800@dfsphoenix.org
SUMMARY:Fast Track to Success: Put The Muscle In Your Career
DESCRIPTION:
URL:https://dfsphoenix.org/event/fast-track-to-success-put-the-muscle-in-your-career-2/
LOCATION:Prestamos CDFI Women’s Business Center\, 1008 E Buckeye Rd\, Suite 215\, Phoenix\, AZ\, 85034
END:VEVENT
BEGIN:VEVENT
DTSTART;TZID=America/Phoenix:20250611T110000
DTEND;TZID=America/Phoenix:20250611T140000
DTSTAMP:20260419T114753
CREATED:20250207T195011Z
LAST-MODIFIED:20250207T195057Z
UID:142625-1749639600-1749650400@dfsphoenix.org
SUMMARY:Fast Track to Success: Nailing Your Interview
DESCRIPTION:
URL:https://dfsphoenix.org/event/fast-track-to-success-nailing-your-interview-6/
LOCATION:Prestamos CDFI Women’s Business Center\, 1008 E Buckeye Rd\, Suite 215\, Phoenix\, AZ\, 85034
END:VEVENT
BEGIN:VEVENT
DTSTART;VALUE=DATE:20250623
DTEND;VALUE=DATE:20250624
DTSTAMP:20260419T114753
CREATED:20250619T160308Z
LAST-MODIFIED:20250619T160339Z
UID:144836-1750636800-1750723199@dfsphoenix.org
SUMMARY:The Workforce Initiative - First Star ASU Academy
DESCRIPTION:
URL:https://dfsphoenix.org/event/the-workforce-initiative-first-star-asu-academy/
LOCATION:First Star ASU Academy\, 430 E. University Dr.\, Phoenix\, AZ\, 85004
CATEGORIES:The Workforce Initiative
END:VEVENT
BEGIN:VEVENT
DTSTART;VALUE=DATE:20250625
DTEND;VALUE=DATE:20250626
DTSTAMP:20260419T114753
CREATED:20250619T160510Z
LAST-MODIFIED:20250619T160510Z
UID:144839-1750809600-1750895999@dfsphoenix.org
SUMMARY:The Workforce Initiative - Mayo Clinic Cares
DESCRIPTION:
URL:https://dfsphoenix.org/event/the-workforce-initiative-mayo-clinic-cares/
LOCATION:Mayo Clinic\, 5951 E. Mayo Blvd.\, Phoenix\, AZ\, 85054
END:VEVENT
BEGIN:VEVENT
DTSTART;TZID=America/Phoenix:20250625T110000
DTEND;TZID=America/Phoenix:20250625T140000
DTSTAMP:20260419T114753
CREATED:20250207T195113Z
LAST-MODIFIED:20250207T195229Z
UID:142628-1750849200-1750860000@dfsphoenix.org
SUMMARY:Fast Track to Success: What's Your Next?
DESCRIPTION:
URL:https://dfsphoenix.org/event/fast-track-to-success-whats-your-next-3/
LOCATION:Prestamos CDFI Women’s Business Center\, 1008 E Buckeye Rd\, Suite 215\, Phoenix\, AZ\, 85034
END:VEVENT
BEGIN:VEVENT
DTSTART;VALUE=DATE:20250725
DTEND;VALUE=DATE:20250811
DTSTAMP:20260419T114753
CREATED:20250724T235957Z
LAST-MODIFIED:20250724T235958Z
UID:144887-1753401600-1754870399@dfsphoenix.org
SUMMARY:Brighton Handbag Trade-In Event Benefitting Dress for Success Phoenix
DESCRIPTION:Brighten a woman’s future\, one handbag at a time!\n\n\nFrom July 25 through August 10\, donate a gently-used handbag at Brighton in Kierland Commons to support Dress for Success Phoenix. Your donation will help provide women with the confidence they need to thrive in work and in life.\n\nLocation: 15210 N. Scottsdale Rd\, Suite #110\, Scottsdale\, AZ 85254\n\nThis year\, Brighton’s goal is to collect 15\,000 handbags nationwide for women in need. You can help make a meaningful impact right here in our community.\n\nAs a thank you:\n\n👜 Receive $25 toward a new Brighton handbag priced at $249 or under\n👜 Receive $50 toward a new Brighton handbag priced at $250 or more\n\n*Offer excludes Artful at Heart Totes and Live Love Travel. Limited to stock on hand. One bonus qualifying handbag purchase per donation of a gently-used handbag. Cannot be combined with any other offer.\n\n 
URL:https://dfsphoenix.org/event/brighton-handbag-trade-in-event-benefitting-dress-for-success-phoenix/
LOCATION:Brighton Kierland Commons\, 15210 N. Scottsdale Rd\, Scottsdale\, AZ\, 85254
CATEGORIES:Fundraiser
ATTACH;FMTTYPE=image/jpeg:https://dfsphoenix.org/wp-content/uploads/2025/07/Brighton-Social-Media-Post-Presentation.jpg
END:VEVENT
BEGIN:VEVENT
DTSTART;TZID=America/Phoenix:20250814T130000
DTEND;TZID=America/Phoenix:20250814T150000
DTSTAMP:20260419T114753
CREATED:20250801T032533Z
LAST-MODIFIED:20250801T032659Z
UID:144894-1755176400-1755183600@dfsphoenix.org
SUMMARY:SRP "Power Up Your Career" Workshop
DESCRIPTION:
URL:https://dfsphoenix.org/event/srp-power-up-your-career-workshop/
LOCATION:Dress for Success Phoenix\, 3110 N Central Ave\, D-200\, Phoenix\, AZ\, 85012
CATEGORIES:Career Services
ATTACH;FMTTYPE=image/jpeg:https://dfsphoenix.org/wp-content/uploads/2025/07/SRP-EventBrite-Header-2160-x-1080-px.jpg
END:VEVENT
BEGIN:VEVENT
DTSTART;TZID=America/Phoenix:20251004T140000
DTEND;TZID=America/Phoenix:20251004T160000
DTSTAMP:20260419T114753
CREATED:20250923T021920Z
LAST-MODIFIED:20250923T021957Z
UID:145049-1759586400-1759593600@dfsphoenix.org
SUMMARY:Kendra Scott Giveback Event
DESCRIPTION:
URL:https://dfsphoenix.org/event/kendra-scott-giveback-event/
LOCATION:Kendra Scott – Arrowhead Towne Center\, 7700 W Arrowhead Towne Center\, Glendale\, AZ\, 85308
CATEGORIES:Fundraiser
ORGANIZER;CN="Kendra Scott":MAILTO:michelle.delavara@kendrascott.com
END:VEVENT
BEGIN:VEVENT
DTSTART;TZID=America/Phoenix:20251112T110000
DTEND;TZID=America/Phoenix:20251112T140000
DTSTAMP:20260419T114753
CREATED:20251111T005657Z
LAST-MODIFIED:20251111T005657Z
UID:145183-1762945200-1762956000@dfsphoenix.org
SUMMARY:Fast Track to Career Success: Resumes & Profiles
DESCRIPTION:
URL:https://dfsphoenix.org/event/fast-track-to-career-success-resumes-profiles/
LOCATION:Dress for Success Arizona\, 3110 N. Central Ave.\, D-200\, Phoenix\, AZ\, 85012
CATEGORIES:Career Services
ORGANIZER;CN="Dress for Success Arizona":MAILTO:services@dressforsuccessphoenix.org
END:VEVENT
BEGIN:VEVENT
DTSTART;TZID=America/Phoenix:20251118T130000
DTEND;TZID=America/Phoenix:20251118T150000
DTSTAMP:20260419T114753
CREATED:20251111T004445Z
LAST-MODIFIED:20251111T005016Z
UID:145169-1763470800-1763478000@dfsphoenix.org
SUMMARY:SRP "Power Up Your Career" Workshop
DESCRIPTION:
URL:https://dfsphoenix.org/event/srp-power-up-your-career-workshop-2/
LOCATION:Dress for Success Arizona\, 3110 N. Central Ave.\, D-200\, Phoenix\, AZ\, 85012
CATEGORIES:Career Services
ATTACH;FMTTYPE=image/jpeg:https://dfsphoenix.org/wp-content/uploads/2025/11/SRP-EventBrite-Header-2160-x-1080-px.jpg
ORGANIZER;CN="Dress for Success Arizona":MAILTO:services@dressforsuccessphoenix.org
END:VEVENT
BEGIN:VEVENT
DTSTART;TZID=America/Phoenix:20251119T100000
DTEND;TZID=America/Phoenix:20251119T130000
DTSTAMP:20260419T114753
CREATED:20251111T005843Z
LAST-MODIFIED:20251111T005843Z
UID:145187-1763546400-1763557200@dfsphoenix.org
SUMMARY:Pitch Perfect: Strengthen Your Personal Brand
DESCRIPTION:
URL:https://dfsphoenix.org/event/pitch-perfect-strengthen-your-personal-brand/
LOCATION:Dress for Success Arizona\, 3110 N. Central Ave.\, D-200\, Phoenix\, AZ\, 85012
CATEGORIES:Career Services
ORGANIZER;CN="Dress for Success Arizona":MAILTO:services@dressforsuccessphoenix.org
END:VEVENT
BEGIN:VEVENT
DTSTART;TZID=America/Phoenix:20251120T100000
DTEND;TZID=America/Phoenix:20251120T130000
DTSTAMP:20260419T114753
CREATED:20251111T004855Z
LAST-MODIFIED:20251111T005359Z
UID:145175-1763632800-1763643600@dfsphoenix.org
SUMMARY:The Workforce Initiative ASU Career Suiting
DESCRIPTION:
URL:https://dfsphoenix.org/event/the-workforce-initiative-asu-career-suiting/
LOCATION:Arizona State University Student Services Building\, 1151 S. Forest Ave\, Tempe\, AZ\, 85281
CATEGORIES:Career Services,Mobile Career Center
END:VEVENT
BEGIN:VEVENT
DTSTART;TZID=America/Phoenix:20260108T130000
DTEND;TZID=America/Phoenix:20260108T160000
DTSTAMP:20260419T114753
CREATED:20260108T211116Z
LAST-MODIFIED:20260108T211116Z
UID:145240-1767877200-1767888000@dfsphoenix.org
SUMMARY:Mobile Career Center: Avondale Resource Center
DESCRIPTION:
URL:https://dfsphoenix.org/event/mobile-career-center-avondale-resource-center/
LOCATION:Arizona Complete Health Avondale Resource Center\, 995 E Riley Dr\, Avondale\, AZ\, 85323
CATEGORIES:Mobile Career Center
ORGANIZER;CN="Dress for Success Arizona":MAILTO:services@dressforsuccessphoenix.org
END:VEVENT
BEGIN:VEVENT
DTSTART;TZID=America/Phoenix:20260115T110000
DTEND;TZID=America/Phoenix:20260115T140000
DTSTAMP:20260419T114753
CREATED:20260108T211317Z
LAST-MODIFIED:20260108T211317Z
UID:145242-1768474800-1768485600@dfsphoenix.org
SUMMARY:Mobile Career Center: City of Goodyear Hiring Event
DESCRIPTION:
URL:https://dfsphoenix.org/event/mobile-career-center-city-of-goodyear-hiring-event/
LOCATION:Goodyear Recreation Center\, 420 E. Estrella Pkwy\, Goodyear\, AZ\, 85338
CATEGORIES:Mobile Career Center
END:VEVENT
BEGIN:VEVENT
DTSTART;TZID=America/Phoenix:20260119T080000
DTEND;TZID=America/Phoenix:20260119T170000
DTSTAMP:20260419T114753
CREATED:20260120T040216Z
LAST-MODIFIED:20260120T040216Z
UID:145325-1768809600-1768842000@dfsphoenix.org
SUMMARY:Mobile Career Center: Town of Gilbert Informational Fair
DESCRIPTION:
URL:https://dfsphoenix.org/event/mobile-career-center-town-of-gilbert-informational-fair/
LOCATION:HD South\, 10 S. Gilbert Rd.\, Gilbert\, AZ\, 85296
CATEGORIES:Mobile Career Center
END:VEVENT
BEGIN:VEVENT
DTSTART;TZID=America/Phoenix:20260122T080000
DTEND;TZID=America/Phoenix:20260122T140000
DTSTAMP:20260419T114753
CREATED:20260108T211526Z
LAST-MODIFIED:20260108T211526Z
UID:145246-1769068800-1769090400@dfsphoenix.org
SUMMARY:Mobile Career Center: Arizona Department of Corrections\, Rehabilitation & Reentry
DESCRIPTION:Open to those seeking employment after reentry.
URL:https://dfsphoenix.org/event/mobile-career-center-arizona-department-of-corrections-rehabilitation-reentry/
LOCATION:ADCRR – Kroc Center\, 1375 E. Broadway Rd.\, Mesa\, AZ\, 85040
CATEGORIES:Mobile Career Center
END:VEVENT
BEGIN:VEVENT
DTSTART;TZID=America/Phoenix:20260131T090000
DTEND;TZID=America/Phoenix:20260131T120000
DTSTAMP:20260419T114753
CREATED:20251212T162022Z
LAST-MODIFIED:20260115T040323Z
UID:145217-1769850000-1769860800@dfsphoenix.org
SUMMARY:Bank On Arizona Get Banked Day
DESCRIPTION:
URL:https://dfsphoenix.org/event/bank-on-arizona-get-banked-day/
LOCATION:Tempe EnVision Center\, 1310 E. Apache Blvd.\, Tempe\, AZ\, 85281
CATEGORIES:Bank On Arizona
ATTACH;FMTTYPE=image/jpeg:https://dfsphoenix.org/wp-content/uploads/2025/12/Get-Banked-Day-Flyer-2160-x-1080-px.jpeg
ORGANIZER;CN="Bank On Arizona":MAILTO:jessica@bankonaz.org
END:VEVENT
BEGIN:VEVENT
DTSTART;TZID=America/Phoenix:20260204T080000
DTEND;TZID=America/Phoenix:20260204T140000
DTSTAMP:20260419T114753
CREATED:20260120T035918Z
LAST-MODIFIED:20260120T035918Z
UID:145318-1770192000-1770213600@dfsphoenix.org
SUMMARY:Mobile Career Center/The Workforce Initiative: Superstition High
DESCRIPTION:
URL:https://dfsphoenix.org/event/mobile-career-center-the-workforce-initiative-superstition-high/
LOCATION:Superstition High\, 10222 E. Southern Ave.\, Mesa\, AZ\, 85209
CATEGORIES:Mobile Career Center,The Workforce Initiative
END:VEVENT
BEGIN:VEVENT
DTSTART;TZID=America/Phoenix:20260205T080000
DTEND;TZID=America/Phoenix:20260205T110000
DTSTAMP:20260419T114753
CREATED:20260120T040022Z
LAST-MODIFIED:20260120T040022Z
UID:145322-1770278400-1770289200@dfsphoenix.org
SUMMARY:Mobile Career Center: City of Surprise Hiring Event
DESCRIPTION:
URL:https://dfsphoenix.org/event/mobile-career-center-city-of-surprise-hiring-event/
LOCATION:AZ
CATEGORIES:Mobile Career Center
END:VEVENT
BEGIN:VEVENT
DTSTART;TZID=America/Phoenix:20260207T090000
DTEND;TZID=America/Phoenix:20260207T120000
DTSTAMP:20260419T114753
CREATED:20260120T045340Z
LAST-MODIFIED:20260120T045340Z
UID:145377-1770454800-1770465600@dfsphoenix.org
SUMMARY:Gilbert Community Connect Expo
DESCRIPTION:
URL:https://dfsphoenix.org/event/gilbert-community-connect-expo/
LOCATION:HD South\, 10 S. Gilbert Rd.\, Gilbert\, AZ\, 85296
CATEGORIES:Community Event
END:VEVENT
BEGIN:VEVENT
DTSTART;TZID=America/Phoenix:20260211T110000
DTEND;TZID=America/Phoenix:20260211T140000
DTSTAMP:20260419T114753
CREATED:20260120T033544Z
LAST-MODIFIED:20260120T033937Z
UID:145279-1770807600-1770818400@dfsphoenix.org
SUMMARY:Fast Track to Career Success: Nailing Your Interview Presented By ADP
DESCRIPTION:
URL:https://dfsphoenix.org/event/fast-track-to-career-success-nailing-your-interview/
LOCATION:Dress for Success Arizona\, 3110 N. Central Ave.\, D-200\, Phoenix\, AZ\, 85012
CATEGORIES:Fast Track to Success
ORGANIZER;CN="Dress for Success Arizona":MAILTO:services@dressforsuccessphoenix.org
END:VEVENT
BEGIN:VEVENT
DTSTART;TZID=America/Phoenix:20260212T080000
DTEND;TZID=America/Phoenix:20260212T120000
DTSTAMP:20260419T114753
CREATED:20260120T040403Z
LAST-MODIFIED:20260120T040403Z
UID:145330-1770883200-1770897600@dfsphoenix.org
SUMMARY:Mobile Career Center/The Workforce Initiative: ASU Prep South Mountain
DESCRIPTION:
URL:https://dfsphoenix.org/event/mobile-career-center-the-workforce-initiative-asu-prep-south-mountain/
LOCATION:ASU Prep South Mountain\, 4445 S. 12th St.\, Phoenix\, AZ\, 85040
CATEGORIES:Mobile Career Center,The Workforce Initiative
END:VEVENT
BEGIN:VEVENT
DTSTART;TZID=America/Phoenix:20260217T110000
DTEND;TZID=America/Phoenix:20260217T150000
DTSTAMP:20260419T114753
CREATED:20260120T040526Z
LAST-MODIFIED:20260120T040526Z
UID:145333-1771326000-1771340400@dfsphoenix.org
SUMMARY:Mobile Career Center/The Workforce Initiative: ASU Prep Downtown
DESCRIPTION:
URL:https://dfsphoenix.org/event/mobile-career-center-the-workforce-initiative-asu-prep-downtown/
LOCATION:ASU Prep Downtown Phoenix\, 735 E. Fillmore St.\, Phoenix\, AZ\, 85006
CATEGORIES:Mobile Career Center,The Workforce Initiative
END:VEVENT
BEGIN:VEVENT
DTSTART;VALUE=DATE:20260219
DTEND;VALUE=DATE:20260220
DTSTAMP:20260419T114753
CREATED:20260120T040705Z
LAST-MODIFIED:20260120T040705Z
UID:145337-1771459200-1771545599@dfsphoenix.org
SUMMARY:Mobile Career Center/The Workforce Initiative: ASU Polytechnic
DESCRIPTION:
URL:https://dfsphoenix.org/event/mobile-career-center-the-workforce-initiative-asu-polytechnic/
LOCATION:ASU Polytechnic\, 7001 E. Williams Field Rd.\, Mesa\, AZ\, 85212
CATEGORIES:Mobile Career Center,The Workforce Initiative
END:VEVENT
BEGIN:VEVENT
DTSTART;TZID=America/Phoenix:20260221T100000
DTEND;TZID=America/Phoenix:20260221T130000
DTSTAMP:20260419T114753
CREATED:20260120T040836Z
LAST-MODIFIED:20260120T040836Z
UID:145341-1771668000-1771678800@dfsphoenix.org
SUMMARY:Mobile Career Center: Caps and Connections Family Resource Fair
DESCRIPTION:
URL:https://dfsphoenix.org/event/mobile-career-center-caps-and-connections-family-resource-fair/
LOCATION:Arizona Complete Health Avondale Resource Center\, 995 E Riley Dr\, Avondale\, AZ\, 85323
CATEGORIES:Mobile Career Center
END:VEVENT
BEGIN:VEVENT
DTSTART;TZID=America/Phoenix:20260225T110000
DTEND;TZID=America/Phoenix:20260225T140000
DTSTAMP:20260419T114753
CREATED:20260120T033713Z
LAST-MODIFIED:20260120T033924Z
UID:145281-1772017200-1772028000@dfsphoenix.org
SUMMARY:Fast Track to Career Success: Branding You! Presented By ADP
DESCRIPTION:
URL:https://dfsphoenix.org/event/fast-track-to-career-success-branding-you-presented-by-adp/
LOCATION:Dress for Success Arizona\, 3110 N. Central Ave.\, D-200\, Phoenix\, AZ\, 85012
CATEGORIES:Fast Track to Success
ORGANIZER;CN="Dress for Success Arizona":MAILTO:services@dressforsuccessphoenix.org
END:VEVENT
BEGIN:VEVENT
DTSTART;TZID=America/Phoenix:20260228T090000
DTEND;TZID=America/Phoenix:20260228T140000
DTSTAMP:20260419T114753
CREATED:20260120T041021Z
LAST-MODIFIED:20260120T041021Z
UID:145343-1772269200-1772287200@dfsphoenix.org
SUMMARY:Mobile Career Center/The Workforce Initiative: Grad Solution @ South Mountain High School
DESCRIPTION:
URL:https://dfsphoenix.org/event/mobile-career-center-the-workforce-initiative-grad-solution-south-mountain-high-school/
LOCATION:South Mountain High School\, 7050 S. 24th St.\, Phoenix\, AZ\, 85042
CATEGORIES:Mobile Career Center,The Workforce Initiative
END:VEVENT
BEGIN:VEVENT
DTSTART;VALUE=DATE:20260302
DTEND;VALUE=DATE:20260316
DTSTAMP:20260419T114753
CREATED:20260305T213444Z
LAST-MODIFIED:20260305T213444Z
UID:145800-1772409600-1773619199@dfsphoenix.org
SUMMARY:Talbots 30% Give Back Event: "Shirtdress for Success"
DESCRIPTION:Introducing the Talbots & Dress for Success Shirtdress for Success! Now through March 15th\, 30% of the purchase price from their new\, limited-edition dress will be donated to Dress for Success in support of our mission to help women in our communities thrive in work and in life. \nPerfect for every occasion\, this new\, limited-edition dress in chic\, timeless black is tailored for today. It’s the versatile wardrobe staple every woman needs.
URL:https://dfsphoenix.org/event/talbots-30-give-back-event-shirtdress-for-success/
LOCATION:Talbots
CATEGORIES:Fundraiser
ATTACH;FMTTYPE=image/jpeg:https://dfsphoenix.org/wp-content/uploads/2026/03/03_TalbotsxDFS_ShirtdressforSuccess-1.jpeg
END:VEVENT
END:VCALENDAR