BEGIN:VCALENDAR
VERSION:2.0
PRODID:-//Dress for Success Arizona - ECPv6.15.16//NONSGML v1.0//EN
CALSCALE:GREGORIAN
METHOD:PUBLISH
X-ORIGINAL-URL:https://dfsphoenix.org
X-WR-CALDESC:Events for Dress for Success Arizona
REFRESH-INTERVAL;VALUE=DURATION:PT1H
X-Robots-Tag:noindex
X-PUBLISHED-TTL:PT1H
BEGIN:VTIMEZONE
TZID:America/Phoenix
BEGIN:STANDARD
TZOFFSETFROM:-0700
TZOFFSETTO:-0700
TZNAME:MST
DTSTART:20250101T000000
END:STANDARD
END:VTIMEZONE
BEGIN:VEVENT
DTSTART;TZID=America/Phoenix:20260205T080000
DTEND;TZID=America/Phoenix:20260205T110000
DTSTAMP:20260419T181141
CREATED:20260120T040022Z
LAST-MODIFIED:20260120T040022Z
UID:145322-1770278400-1770289200@dfsphoenix.org
SUMMARY:Mobile Career Center: City of Surprise Hiring Event
DESCRIPTION:
URL:https://dfsphoenix.org/event/mobile-career-center-city-of-surprise-hiring-event/
LOCATION:AZ
CATEGORIES:Mobile Career Center
END:VEVENT
BEGIN:VEVENT
DTSTART;TZID=America/Phoenix:20260207T090000
DTEND;TZID=America/Phoenix:20260207T120000
DTSTAMP:20260419T181141
CREATED:20260120T045340Z
LAST-MODIFIED:20260120T045340Z
UID:145377-1770454800-1770465600@dfsphoenix.org
SUMMARY:Gilbert Community Connect Expo
DESCRIPTION:
URL:https://dfsphoenix.org/event/gilbert-community-connect-expo/
LOCATION:HD South\, 10 S. Gilbert Rd.\, Gilbert\, AZ\, 85296
CATEGORIES:Community Event
END:VEVENT
BEGIN:VEVENT
DTSTART;TZID=America/Phoenix:20260211T110000
DTEND;TZID=America/Phoenix:20260211T140000
DTSTAMP:20260419T181141
CREATED:20260120T033544Z
LAST-MODIFIED:20260120T033937Z
UID:145279-1770807600-1770818400@dfsphoenix.org
SUMMARY:Fast Track to Career Success: Nailing Your Interview Presented By ADP
DESCRIPTION:
URL:https://dfsphoenix.org/event/fast-track-to-career-success-nailing-your-interview/
LOCATION:Dress for Success Arizona\, 3110 N. Central Ave.\, D-200\, Phoenix\, AZ\, 85012
CATEGORIES:Fast Track to Success
ORGANIZER;CN="Dress for Success Arizona":MAILTO:services@dressforsuccessphoenix.org
END:VEVENT
BEGIN:VEVENT
DTSTART;TZID=America/Phoenix:20260212T080000
DTEND;TZID=America/Phoenix:20260212T120000
DTSTAMP:20260419T181141
CREATED:20260120T040403Z
LAST-MODIFIED:20260120T040403Z
UID:145330-1770883200-1770897600@dfsphoenix.org
SUMMARY:Mobile Career Center/The Workforce Initiative: ASU Prep South Mountain
DESCRIPTION:
URL:https://dfsphoenix.org/event/mobile-career-center-the-workforce-initiative-asu-prep-south-mountain/
LOCATION:ASU Prep South Mountain\, 4445 S. 12th St.\, Phoenix\, AZ\, 85040
CATEGORIES:Mobile Career Center,The Workforce Initiative
END:VEVENT
BEGIN:VEVENT
DTSTART;TZID=America/Phoenix:20260217T110000
DTEND;TZID=America/Phoenix:20260217T150000
DTSTAMP:20260419T181141
CREATED:20260120T040526Z
LAST-MODIFIED:20260120T040526Z
UID:145333-1771326000-1771340400@dfsphoenix.org
SUMMARY:Mobile Career Center/The Workforce Initiative: ASU Prep Downtown
DESCRIPTION:
URL:https://dfsphoenix.org/event/mobile-career-center-the-workforce-initiative-asu-prep-downtown/
LOCATION:ASU Prep Downtown Phoenix\, 735 E. Fillmore St.\, Phoenix\, AZ\, 85006
CATEGORIES:Mobile Career Center,The Workforce Initiative
END:VEVENT
BEGIN:VEVENT
DTSTART;VALUE=DATE:20260219
DTEND;VALUE=DATE:20260220
DTSTAMP:20260419T181141
CREATED:20260120T040705Z
LAST-MODIFIED:20260120T040705Z
UID:145337-1771459200-1771545599@dfsphoenix.org
SUMMARY:Mobile Career Center/The Workforce Initiative: ASU Polytechnic
DESCRIPTION:
URL:https://dfsphoenix.org/event/mobile-career-center-the-workforce-initiative-asu-polytechnic/
LOCATION:ASU Polytechnic\, 7001 E. Williams Field Rd.\, Mesa\, AZ\, 85212
CATEGORIES:Mobile Career Center,The Workforce Initiative
END:VEVENT
BEGIN:VEVENT
DTSTART;TZID=America/Phoenix:20260221T100000
DTEND;TZID=America/Phoenix:20260221T130000
DTSTAMP:20260419T181141
CREATED:20260120T040836Z
LAST-MODIFIED:20260120T040836Z
UID:145341-1771668000-1771678800@dfsphoenix.org
SUMMARY:Mobile Career Center: Caps and Connections Family Resource Fair
DESCRIPTION:
URL:https://dfsphoenix.org/event/mobile-career-center-caps-and-connections-family-resource-fair/
LOCATION:Arizona Complete Health Avondale Resource Center\, 995 E Riley Dr\, Avondale\, AZ\, 85323
CATEGORIES:Mobile Career Center
END:VEVENT
BEGIN:VEVENT
DTSTART;TZID=America/Phoenix:20260225T110000
DTEND;TZID=America/Phoenix:20260225T140000
DTSTAMP:20260419T181141
CREATED:20260120T033713Z
LAST-MODIFIED:20260120T033924Z
UID:145281-1772017200-1772028000@dfsphoenix.org
SUMMARY:Fast Track to Career Success: Branding You! Presented By ADP
DESCRIPTION:
URL:https://dfsphoenix.org/event/fast-track-to-career-success-branding-you-presented-by-adp/
LOCATION:Dress for Success Arizona\, 3110 N. Central Ave.\, D-200\, Phoenix\, AZ\, 85012
CATEGORIES:Fast Track to Success
ORGANIZER;CN="Dress for Success Arizona":MAILTO:services@dressforsuccessphoenix.org
END:VEVENT
BEGIN:VEVENT
DTSTART;TZID=America/Phoenix:20260228T090000
DTEND;TZID=America/Phoenix:20260228T140000
DTSTAMP:20260419T181141
CREATED:20260120T041021Z
LAST-MODIFIED:20260120T041021Z
UID:145343-1772269200-1772287200@dfsphoenix.org
SUMMARY:Mobile Career Center/The Workforce Initiative: Grad Solution @ South Mountain High School
DESCRIPTION:
URL:https://dfsphoenix.org/event/mobile-career-center-the-workforce-initiative-grad-solution-south-mountain-high-school/
LOCATION:South Mountain High School\, 7050 S. 24th St.\, Phoenix\, AZ\, 85042
CATEGORIES:Mobile Career Center,The Workforce Initiative
END:VEVENT
BEGIN:VEVENT
DTSTART;VALUE=DATE:20260302
DTEND;VALUE=DATE:20260316
DTSTAMP:20260419T181141
CREATED:20260305T213444Z
LAST-MODIFIED:20260305T213444Z
UID:145800-1772409600-1773619199@dfsphoenix.org
SUMMARY:Talbots 30% Give Back Event: "Shirtdress for Success"
DESCRIPTION:Introducing the Talbots & Dress for Success Shirtdress for Success! Now through March 15th\, 30% of the purchase price from their new\, limited-edition dress will be donated to Dress for Success in support of our mission to help women in our communities thrive in work and in life. \nPerfect for every occasion\, this new\, limited-edition dress in chic\, timeless black is tailored for today. It’s the versatile wardrobe staple every woman needs.
URL:https://dfsphoenix.org/event/talbots-30-give-back-event-shirtdress-for-success/
LOCATION:Talbots
CATEGORIES:Fundraiser
ATTACH;FMTTYPE=image/jpeg:https://dfsphoenix.org/wp-content/uploads/2026/03/03_TalbotsxDFS_ShirtdressforSuccess-1.jpeg
END:VEVENT
BEGIN:VEVENT
DTSTART;TZID=America/Phoenix:20260305T100000
DTEND;TZID=America/Phoenix:20260305T130000
DTSTAMP:20260419T181141
CREATED:20260120T041201Z
LAST-MODIFIED:20260120T041201Z
UID:145347-1772704800-1772715600@dfsphoenix.org
SUMMARY:Mobile Career Center/The Workforce Initiative: Thrive Point High School
DESCRIPTION:
URL:https://dfsphoenix.org/event/mobile-career-center-the-workforce-initiative-thrive-point-high-school/
LOCATION:Thrive Point High School\, 1039 E. Van Buren\, Avondale\, AZ\, 85323
CATEGORIES:Mobile Career Center,The Workforce Initiative
END:VEVENT
BEGIN:VEVENT
DTSTART;TZID=America/Phoenix:20260307T090000
DTEND;TZID=America/Phoenix:20260307T130000
DTSTAMP:20260419T181141
CREATED:20260120T045630Z
LAST-MODIFIED:20260120T050600Z
UID:145379-1772874000-1772888400@dfsphoenix.org
SUMMARY:WIC & ASU Spring Spectacular
DESCRIPTION:
URL:https://dfsphoenix.org/event/wic-asu-spring-spectacular/
LOCATION:ASU Chandler Innovation Center\, 249 E. Chicago St\, Chandler\, AZ\, 85225
CATEGORIES:Community Event
END:VEVENT
BEGIN:VEVENT
DTSTART;TZID=America/Phoenix:20260307T100000
DTEND;TZID=America/Phoenix:20260307T200000
DTSTAMP:20260419T181141
CREATED:20260305T212958Z
LAST-MODIFIED:20260305T212958Z
UID:145793-1772877600-1772913600@dfsphoenix.org
SUMMARY:Talbots Shop for a Cause - 10% of Sales Donated to Dress for Success
DESCRIPTION:10% of sales will be donated to Dress for Success\nPlus\, enjoy 25% off your entire purchase (including new arrivals)\nThe Shop for a Cause event in support of Dress for Success is coming to stores and online on Saturday\, March 7th. 10% of sales will be donated to Dress for Success! \nPlus\, enjoy 25% off your entire purchase (including new arrivals!). \nJoin us for this 12th annual Talbots and Dress for Success partnership\, a driving force of women supporting women – creating tangible\, positive change in work and life. \nLearn more at www.talbots.com/dfs. \n 
URL:https://dfsphoenix.org/event/talbots-shop-for-a-cause-10-of-sales-donated-to-dress-for-success/
LOCATION:Talbots
CATEGORIES:Fundraiser
ATTACH;FMTTYPE=image/jpeg:https://dfsphoenix.org/wp-content/uploads/2026/03/Document.jpg
END:VEVENT
BEGIN:VEVENT
DTSTART;TZID=America/Phoenix:20260309T090000
DTEND;TZID=America/Phoenix:20260309T140000
DTSTAMP:20260419T181141
CREATED:20260120T041340Z
LAST-MODIFIED:20260120T041340Z
UID:145351-1773046800-1773064800@dfsphoenix.org
SUMMARY:Mobile Career Center: Estrella Foothills
DESCRIPTION:
URL:https://dfsphoenix.org/event/mobile-career-center-estrella-foothills/
LOCATION:Estrella Foothills\, 13033 S. Estrella Pkwy.\, Goodyear\, AZ\, 85338
CATEGORIES:Mobile Career Center
END:VEVENT
BEGIN:VEVENT
DTSTART;TZID=America/Phoenix:20260311T100000
DTEND;TZID=America/Phoenix:20260311T130000
DTSTAMP:20260419T181141
CREATED:20260205T181652Z
LAST-MODIFIED:20260205T181652Z
UID:145408-1773223200-1773234000@dfsphoenix.org
SUMMARY:Bank On Arizona at Tempe VITA: Community Support Day
DESCRIPTION:Bank On Arizona will be at the Tempe VITA site on March 11 from 10:00 a.m. to 1:00 p.m.\, sharing helpful resources and information about financial options available in the community. Stop by to learn more and connect with the Bank On Arizona team. The first 20 attendees who visit and participate will receive a $25 gift card while supplies last.
URL:https://dfsphoenix.org/event/bank-on-arizona-at-tempe-vita-community-support-day/
LOCATION:Gracie’s Village\, 1540 E. Apache Blvd\, Tempe\, AZ\, 85281
CATEGORIES:Bank On Arizona,Community Event
END:VEVENT
BEGIN:VEVENT
DTSTART;TZID=America/Phoenix:20260311T100000
DTEND;TZID=America/Phoenix:20260311T140000
DTSTAMP:20260419T181141
CREATED:20260120T033844Z
LAST-MODIFIED:20260120T033857Z
UID:145284-1773223200-1773237600@dfsphoenix.org
SUMMARY:Fast Track to Career Success: Nailing Your Interviewed Presented By ADP
DESCRIPTION:
URL:https://dfsphoenix.org/event/fast-track-to-career-success-nailing-your-interviewed-presented-by-adp/
LOCATION:Dress for Success Arizona\, 3110 N. Central Ave.\, D-200\, Phoenix\, AZ\, 85012
CATEGORIES:Fast Track to Success
ORGANIZER;CN="Dress for Success Arizona":MAILTO:services@dressforsuccessphoenix.org
END:VEVENT
BEGIN:VEVENT
DTSTART;TZID=America/Phoenix:20260313T070000
DTEND;TZID=America/Phoenix:20260313T153000
DTSTAMP:20260419T181141
CREATED:20260120T041542Z
LAST-MODIFIED:20260120T041542Z
UID:145355-1773385200-1773415800@dfsphoenix.org
SUMMARY:Mobile Career Center: Maricopa County Veteran StandDown
DESCRIPTION:
URL:https://dfsphoenix.org/event/mobile-career-center-maricopa-county-veteran-standdown/
LOCATION:Arizona State Fairgrounds\, 1862 W. McDowell Rd.\, Phoenix\, AZ\, 85007
CATEGORIES:Mobile Career Center
END:VEVENT
BEGIN:VEVENT
DTSTART;TZID=America/Phoenix:20260313T100000
DTEND;TZID=America/Phoenix:20260313T150000
DTSTAMP:20260419T181141
CREATED:20260310T192950Z
LAST-MODIFIED:20260310T193027Z
UID:145805-1773396000-1773414000@dfsphoenix.org
SUMMARY:Trauma-Informed Training Workshop
DESCRIPTION:Click here to RSVP\n 
URL:https://dfsphoenix.org/event/145805/
LOCATION:Dress for Success Arizona\, 3110 N. Central Ave.\, D-200\, Phoenix\, AZ\, 85012
CATEGORIES:Volunteer Event,Workshop
ATTACH;FMTTYPE=image/jpeg:https://dfsphoenix.org/wp-content/uploads/2026/03/Volunteer-Recognition-Flyer-2160-x-1080-px.jpg
ORGANIZER;CN="Dress for Success Arizona":MAILTO:services@dressforsuccessphoenix.org
END:VEVENT
BEGIN:VEVENT
DTSTART;TZID=America/Phoenix:20260323T100000
DTEND;TZID=America/Phoenix:20260323T130000
DTSTAMP:20260419T181141
CREATED:20260120T041705Z
LAST-MODIFIED:20260120T041705Z
UID:145358-1774260000-1774270800@dfsphoenix.org
SUMMARY:Mobile Career Center/The Workforce Initiative: ASU West
DESCRIPTION:
URL:https://dfsphoenix.org/event/mobile-career-center-the-workforce-initiative-asu-west/
LOCATION:ASU West\, 7000 University Way N\, Glendale\, AZ\, 85306
CATEGORIES:Mobile Career Center,The Workforce Initiative
END:VEVENT
BEGIN:VEVENT
DTSTART;TZID=America/Phoenix:20260325T110000
DTEND;TZID=America/Phoenix:20260325T140000
DTSTAMP:20260419T181141
CREATED:20260120T034048Z
LAST-MODIFIED:20260120T034048Z
UID:145288-1774436400-1774447200@dfsphoenix.org
SUMMARY:Fast Track to Career Success: What's Your Next? Presented By ADP
DESCRIPTION:
URL:https://dfsphoenix.org/event/fast-track-to-career-success-whats-your-next-presented-by-adp/
LOCATION:Dress for Success Arizona\, 3110 N. Central Ave.\, D-200\, Phoenix\, AZ\, 85012
CATEGORIES:Fast Track to Success
ORGANIZER;CN="Dress for Success Arizona":MAILTO:services@dressforsuccessphoenix.org
END:VEVENT
BEGIN:VEVENT
DTSTART;VALUE=DATE:20260326
DTEND;VALUE=DATE:20260327
DTSTAMP:20260419T181141
CREATED:20260120T041832Z
LAST-MODIFIED:20260120T041832Z
UID:145362-1774483200-1774569599@dfsphoenix.org
SUMMARY:Mobile Career Center: Stonepoint Community Church
DESCRIPTION:
URL:https://dfsphoenix.org/event/mobile-career-center-stonepoint-community-church/
LOCATION:Stonepoint Community Church\, 4445 W. Olive Ave.\, Glendale\, AZ\, 85302
CATEGORIES:Community Event,Mobile Career Center
END:VEVENT
BEGIN:VEVENT
DTSTART;TZID=America/Phoenix:20260330T110000
DTEND;TZID=America/Phoenix:20260330T140000
DTSTAMP:20260419T181141
CREATED:20260120T041952Z
LAST-MODIFIED:20260120T041952Z
UID:145366-1774868400-1774879200@dfsphoenix.org
SUMMARY:Mobile Career Center/The Workforce Initiative: ASU Tempe
DESCRIPTION:
URL:https://dfsphoenix.org/event/mobile-career-center-the-workforce-initiative-asu-tempe/
LOCATION:ASU Tempe Campus\, 1201 S. McAllister Ave.\, Tempe\, AZ\, 85281
CATEGORIES:Mobile Career Center
END:VEVENT
BEGIN:VEVENT
DTSTART;TZID=America/Phoenix:20260402T090000
DTEND;TZID=America/Phoenix:20260402T170000
DTSTAMP:20260419T181141
CREATED:20260323T180651Z
LAST-MODIFIED:20260323T180651Z
UID:145818-1775120400-1775149200@dfsphoenix.org
SUMMARY:2nd Annual SCALE Up Symposium
DESCRIPTION:  \n\n\nJoin Dress for Success Arizona CEO\, Tamala McBath\, for this purpose-driven business women event! \n\n\n\n\nThe 2nd Annual S.C.A.L.E. Up Symposium is not just a leadership conference.\nIt is a high-level business acceleration room for women ready to master sales\, multiply revenue\, and scale their influence into seven-figure ecosystems. \nThis one-day immersive experience connects bold\, brilliant\, and bankable women who are no longer playing small — and are ready to learn directly from speakers and strategists who have already built the path to millions. \nAt Scale Up\, you will: \n• Learn the art of high-ticket sales and persuasive communication\n• Discover how to build scalable\, recurring revenue streams\n• Gain frameworks for positioning yourself as the premium choice in your market\n• Understand how to leverage visibility into real financial growth\n• Connect with decision-makers\, executives\, and powerhouse entrepreneurs\n• Hear from speakers who have successfully scaled brands\, businesses\, and movements \nThis is where clarity meets cash flow.\nWhere confidence meets conversion.\nWhere vision meets velocity. \nWhat You’ll Walk Away With\n✔ A clear personal revenue roadmap\n✔ Proven sales and messaging strategies\n✔ Elevated personal brand positioning\n✔ High-value business connections\n✔ A renewed standard for what’s possible in your next level \nWho Will Be In The Room\n• Entrepreneurs ready to cross six and seven figures\n• Corporate and emerging leaders expanding influence\n• Executives and decision-makers\n• Women building scalable offers and movements\n• Sponsors seeking access to high-spending female markets \nThe room will be filled with women who are serious about collaboration\, capital\, and next-level visibility. \nThis is not a conference.\nThis is a scaling catalyst. \nIf you are ready to: \n• Sell with confidence\n• Lead with presence\n• Build wealth with intention\n• And enter rooms that accelerate your growth \nThen this is your moment to S.C.A.L.E. Up. \nRegistration is now open.\nTickets are limited and will sell out.\nSales close March 26\, 2026. \nS.C.A.L.E. Up Symposium\nThe Premier Leadership & Business Scaling Event for Women of Influence
URL:https://dfsphoenix.org/event/2nd-annual-scale-up-symposium/
LOCATION:BMO Tower\, Central Arts Way\, Phoenix\, AZ\, 85003
CATEGORIES:Speaking Event
ATTACH;FMTTYPE=image/webp:https://dfsphoenix.org/wp-content/uploads/2026/03/image.webp
END:VEVENT
BEGIN:VEVENT
DTSTART;TZID=America/Phoenix:20260408T100000
DTEND;TZID=America/Phoenix:20260408T140000
DTSTAMP:20260419T181141
CREATED:20260120T034156Z
LAST-MODIFIED:20260120T034156Z
UID:145290-1775642400-1775656800@dfsphoenix.org
SUMMARY:Fast Track to Career Success: Nailing Your Interview Presented By ADP
DESCRIPTION:
URL:https://dfsphoenix.org/event/fast-track-to-career-success-nailing-your-interview-presented-by-adp/
LOCATION:Dress for Success Arizona\, 3110 N. Central Ave.\, D-200\, Phoenix\, AZ\, 85012
CATEGORIES:Fast Track to Success
ORGANIZER;CN="Dress for Success Arizona":MAILTO:services@dressforsuccessphoenix.org
END:VEVENT
BEGIN:VEVENT
DTSTART;TZID=America/Phoenix:20260409T110000
DTEND;TZID=America/Phoenix:20260409T140000
DTSTAMP:20260419T181141
CREATED:20260120T042126Z
LAST-MODIFIED:20260120T042126Z
UID:145369-1775732400-1775743200@dfsphoenix.org
SUMMARY:Mobile Career Center: City of Goodyear Hiring Event
DESCRIPTION:
URL:https://dfsphoenix.org/event/mobile-career-center-city-of-goodyear-hiring-event-2/
LOCATION:Goodyear Recreation Center\, 420 E. Estrella Pkwy\, Goodyear\, AZ\, 85338
CATEGORIES:Mobile Career Center
END:VEVENT
BEGIN:VEVENT
DTSTART;TZID=America/Phoenix:20260415T130000
DTEND;TZID=America/Phoenix:20260415T150000
DTSTAMP:20260419T181141
CREATED:20260407T201439Z
LAST-MODIFIED:20260407T215900Z
UID:145895-1776258000-1776265200@dfsphoenix.org
SUMMARY:Glendale Satellite Studio: Pitch Perfect
DESCRIPTION:  \nRSVP HERE
URL:https://dfsphoenix.org/event/glendale-satellite-studio-pitch-perfect/
LOCATION:GESD System of Care Center\, 7677 W Bethany Home Rd\, Phoenix\, AZ\, 85303
CATEGORIES:Glendale Satellite Studio,Pitch Perfect
ORGANIZER;CN="Dress for Success Arizona":MAILTO:services@dressforsuccessphoenix.org
END:VEVENT
BEGIN:VEVENT
DTSTART;TZID=America/Phoenix:20260416T160000
DTEND;TZID=America/Phoenix:20260416T180000
DTSTAMP:20260419T181141
CREATED:20260327T190544Z
LAST-MODIFIED:20260327T190544Z
UID:145838-1776355200-1776362400@dfsphoenix.org
SUMMARY:Pitch Perfect: Strengthen Your Personal Brand
DESCRIPTION:Learn how to showcase your unique strengths and talents to make a lasting impression at our Pitch Perfect Speed Interviewing event! \n\n\n\n\nPitch Perfect – Strengthen Your Personal Brand \nJoin us at the Dress for Success Arizona Central Studio for an exciting event focused on enhancing your personal brand! Learn how to craft a compelling pitch that showcases your unique strengths and values. Whether you’re a seasoned professional or just starting out\, this event will provide valuable insights and practical tips to help you stand out from the crowd. Don’t miss this opportunity to boost your confidence and make a lasting impression! \nPrompt arrival is required. Please email your resume tocareers@dressforsuccessphoenix.org before the event and include “Pitch Perfect Resume” in the subject line. \n\n\n  \n \n 
URL:https://dfsphoenix.org/event/pitch-perfect-strengthen-your-personal-brand-2/
LOCATION:Dress for Success Arizona\, 3110 N. Central Ave.\, D-200\, Phoenix\, AZ\, 85012
CATEGORIES:Career Services,Pitch Perfect
ATTACH;FMTTYPE=image/jpeg:https://dfsphoenix.org/wp-content/uploads/2026/03/Pitch-Perfect-Eventbrite-Header-March-2026-2160-x-1080-px.jpg
ORGANIZER;CN="Dress for Success Arizona":MAILTO:services@dressforsuccessphoenix.org
END:VEVENT
BEGIN:VEVENT
DTSTART;TZID=America/Phoenix:20260422T110000
DTEND;TZID=America/Phoenix:20260422T140000
DTSTAMP:20260419T181141
CREATED:20260120T034320Z
LAST-MODIFIED:20260120T034320Z
UID:145292-1776855600-1776866400@dfsphoenix.org
SUMMARY:Fast Track to Career Success: Put the Muscle In Your Career Presented By ADP
DESCRIPTION:
URL:https://dfsphoenix.org/event/fast-track-to-career-success-put-the-muscle-in-your-career-presented-by-adp/
LOCATION:Dress for Success Arizona\, 3110 N. Central Ave.\, D-200\, Phoenix\, AZ\, 85012
CATEGORIES:Fast Track to Success
ORGANIZER;CN="Dress for Success Arizona":MAILTO:services@dressforsuccessphoenix.org
END:VEVENT
BEGIN:VEVENT
DTSTART;TZID=America/Phoenix:20260506T110000
DTEND;TZID=America/Phoenix:20260506T140000
DTSTAMP:20260419T181141
CREATED:20260120T034432Z
LAST-MODIFIED:20260120T034432Z
UID:145294-1778065200-1778076000@dfsphoenix.org
SUMMARY:Fast Track to Career Success: Nailing Your Interview Presented By ADP
DESCRIPTION:
URL:https://dfsphoenix.org/event/fast-track-to-career-success-nailing-your-interview-presented-by-adp-2/
LOCATION:Dress for Success Arizona\, 3110 N. Central Ave.\, D-200\, Phoenix\, AZ\, 85012
CATEGORIES:Fast Track to Success
ORGANIZER;CN="Dress for Success Arizona":MAILTO:services@dressforsuccessphoenix.org
END:VEVENT
BEGIN:VEVENT
DTSTART;TZID=America/Phoenix:20260507T110000
DTEND;TZID=America/Phoenix:20260507T123000
DTSTAMP:20260419T181141
CREATED:20260402T202312Z
LAST-MODIFIED:20260402T202312Z
UID:145876-1778151600-1778157000@dfsphoenix.org
SUMMARY:Mobile Career Center: Gilbert Adult Learning Program College & Career Expo
DESCRIPTION:
URL:https://dfsphoenix.org/event/mobile-career-center-gilbert-adult-learning-program-college-career-expo/
LOCATION:GPS Global Academy\, 55 N. Greenfield Rd.\, Gilbert\, AZ\, 85234
CATEGORIES:Mobile Career Center
END:VEVENT
END:VCALENDAR