BEGIN:VCALENDAR
VERSION:2.0
PRODID:-//Dress for Success Arizona - ECPv6.15.16//NONSGML v1.0//EN
CALSCALE:GREGORIAN
METHOD:PUBLISH
X-ORIGINAL-URL:https://dfsphoenix.org
X-WR-CALDESC:Events for Dress for Success Arizona
REFRESH-INTERVAL;VALUE=DURATION:PT1H
X-Robots-Tag:noindex
X-PUBLISHED-TTL:PT1H
BEGIN:VTIMEZONE
TZID:America/Phoenix
BEGIN:STANDARD
TZOFFSETFROM:-0700
TZOFFSETTO:-0700
TZNAME:MST
DTSTART:20250101T000000
END:STANDARD
END:VTIMEZONE
BEGIN:VEVENT
DTSTART;TZID=America/Phoenix:20260422T110000
DTEND;TZID=America/Phoenix:20260422T140000
DTSTAMP:20260419T181139
CREATED:20260120T034320Z
LAST-MODIFIED:20260120T034320Z
UID:145292-1776855600-1776866400@dfsphoenix.org
SUMMARY:Fast Track to Career Success: Put the Muscle In Your Career Presented By ADP
DESCRIPTION:
URL:https://dfsphoenix.org/event/fast-track-to-career-success-put-the-muscle-in-your-career-presented-by-adp/
LOCATION:Dress for Success Arizona\, 3110 N. Central Ave.\, D-200\, Phoenix\, AZ\, 85012
CATEGORIES:Fast Track to Success
ORGANIZER;CN="Dress for Success Arizona":MAILTO:services@dressforsuccessphoenix.org
END:VEVENT
BEGIN:VEVENT
DTSTART;TZID=America/Phoenix:20260506T110000
DTEND;TZID=America/Phoenix:20260506T140000
DTSTAMP:20260419T181139
CREATED:20260120T034432Z
LAST-MODIFIED:20260120T034432Z
UID:145294-1778065200-1778076000@dfsphoenix.org
SUMMARY:Fast Track to Career Success: Nailing Your Interview Presented By ADP
DESCRIPTION:
URL:https://dfsphoenix.org/event/fast-track-to-career-success-nailing-your-interview-presented-by-adp-2/
LOCATION:Dress for Success Arizona\, 3110 N. Central Ave.\, D-200\, Phoenix\, AZ\, 85012
CATEGORIES:Fast Track to Success
ORGANIZER;CN="Dress for Success Arizona":MAILTO:services@dressforsuccessphoenix.org
END:VEVENT
BEGIN:VEVENT
DTSTART;TZID=America/Phoenix:20260507T110000
DTEND;TZID=America/Phoenix:20260507T123000
DTSTAMP:20260419T181139
CREATED:20260402T202312Z
LAST-MODIFIED:20260402T202312Z
UID:145876-1778151600-1778157000@dfsphoenix.org
SUMMARY:Mobile Career Center: Gilbert Adult Learning Program College & Career Expo
DESCRIPTION:
URL:https://dfsphoenix.org/event/mobile-career-center-gilbert-adult-learning-program-college-career-expo/
LOCATION:GPS Global Academy\, 55 N. Greenfield Rd.\, Gilbert\, AZ\, 85234
CATEGORIES:Mobile Career Center
END:VEVENT
BEGIN:VEVENT
DTSTART;TZID=America/Phoenix:20260509T090000
DTEND;TZID=America/Phoenix:20260509T090000
DTSTAMP:20260419T181139
CREATED:20260402T202548Z
LAST-MODIFIED:20260402T202548Z
UID:145880-1778317200-1778317200@dfsphoenix.org
SUMMARY:Mobile Career Center: Moms and More
DESCRIPTION:
URL:https://dfsphoenix.org/event/mobile-career-center-moms-and-more/
LOCATION:ASU Student Services Building\, 1151 S. Forest Ave.\, Tempe\, AZ\, 85287
CATEGORIES:Mobile Career Center
END:VEVENT
BEGIN:VEVENT
DTSTART;TZID=America/Phoenix:20260512T080000
DTEND;TZID=America/Phoenix:20260512T080000
DTSTAMP:20260419T181139
CREATED:20260402T202732Z
LAST-MODIFIED:20260402T202732Z
UID:145883-1778572800-1778572800@dfsphoenix.org
SUMMARY:Mobile Career Center: Franklin Police & Fire High School
DESCRIPTION:
URL:https://dfsphoenix.org/event/mobile-career-center-franklin-police-fire-high-school/
LOCATION:Franklin Police & Fire High School\, 1645 W McDowell Rd\, Phoenix\, AZ\, 85007
CATEGORIES:Mobile Career Center
END:VEVENT
BEGIN:VEVENT
DTSTART;TZID=America/Phoenix:20260520T110000
DTEND;TZID=America/Phoenix:20260520T140000
DTSTAMP:20260419T181139
CREATED:20260120T034537Z
LAST-MODIFIED:20260120T034537Z
UID:145296-1779274800-1779285600@dfsphoenix.org
SUMMARY:Fast Track to Career Success: ROCK! Your Resumes and Profiles Presented By ADP
DESCRIPTION:
URL:https://dfsphoenix.org/event/fast-track-to-career-success-rock-your-resumes-and-profiles-presented-by-adp/
LOCATION:Dress for Success Arizona\, 3110 N. Central Ave.\, D-200\, Phoenix\, AZ\, 85012
CATEGORIES:Fast Track to Success
ORGANIZER;CN="Dress for Success Arizona":MAILTO:services@dressforsuccessphoenix.org
END:VEVENT
BEGIN:VEVENT
DTSTART;TZID=America/Phoenix:20260520T110000
DTEND;TZID=America/Phoenix:20260520T140000
DTSTAMP:20260419T181139
CREATED:20260402T202858Z
LAST-MODIFIED:20260402T202858Z
UID:145887-1779274800-1779285600@dfsphoenix.org
SUMMARY:Mobile Career Center: Arizona@Work Maricopa County
DESCRIPTION:
URL:https://dfsphoenix.org/event/mobile-career-center-arizonawork-maricopa-county/
LOCATION:Arizona@Work\, 1001 W. Southern Ave.\, Mesa\, AZ\, 85210
CATEGORIES:Mobile Career Center
END:VEVENT
BEGIN:VEVENT
DTSTART;TZID=America/Phoenix:20260520T130000
DTEND;TZID=America/Phoenix:20260520T150000
DTSTAMP:20260419T181139
CREATED:20260407T201623Z
LAST-MODIFIED:20260407T215817Z
UID:145898-1779282000-1779289200@dfsphoenix.org
SUMMARY:Glendale Satellite Studio: Pitch Perfect
DESCRIPTION:  \nRSVP HERE
URL:https://dfsphoenix.org/event/glendale-satellite-studio-pitch-perfect-2/
LOCATION:GESD System of Care Center\, 7677 W Bethany Home Rd\, Phoenix\, AZ\, 85303
CATEGORIES:Glendale Satellite Studio,Pitch Perfect
ORGANIZER;CN="Dress for Success Arizona":MAILTO:services@dressforsuccessphoenix.org
END:VEVENT
BEGIN:VEVENT
DTSTART;TZID=America/Phoenix:20260610T110000
DTEND;TZID=America/Phoenix:20260610T140000
DTSTAMP:20260419T181139
CREATED:20260120T034632Z
LAST-MODIFIED:20260120T034632Z
UID:145298-1781089200-1781100000@dfsphoenix.org
SUMMARY:Fast Track to Career Success: Nailing Your Interview Presented By ADP
DESCRIPTION:
URL:https://dfsphoenix.org/event/fast-track-to-career-success-nailing-your-interview-presented-by-adp-3/
LOCATION:Dress for Success Arizona\, 3110 N. Central Ave.\, D-200\, Phoenix\, AZ\, 85012
CATEGORIES:Fast Track to Success
ORGANIZER;CN="Dress for Success Arizona":MAILTO:services@dressforsuccessphoenix.org
END:VEVENT
BEGIN:VEVENT
DTSTART;TZID=America/Phoenix:20260613T090000
DTEND;TZID=America/Phoenix:20260613T120000
DTSTAMP:20260419T181139
CREATED:20260416T205042Z
LAST-MODIFIED:20260416T205042Z
UID:145927-1781341200-1781352000@dfsphoenix.org
SUMMARY:Tucson Family Financial Fitness Fest
DESCRIPTION:  \nREGISTER HERE
URL:https://dfsphoenix.org/event/tucson-family-financial-fitness-fest/
LOCATION:Tucson Small Business Center\, 600 S. Meyer Ave.\, Tucson\, AZ\, 85701
CATEGORIES:Bank On Arizona,Community Event
ATTACH;FMTTYPE=image/jpeg:https://dfsphoenix.org/wp-content/uploads/2026/04/Tucson-Get-Banked-Day-Eventbrite-Header-1880-x-940-px.jpg
ORGANIZER;CN="Bank On Arizona":MAILTO:jessica@bankonaz.org
END:VEVENT
BEGIN:VEVENT
DTSTART;TZID=America/Phoenix:20260617T130000
DTEND;TZID=America/Phoenix:20260617T150000
DTSTAMP:20260419T181139
CREATED:20260407T201744Z
LAST-MODIFIED:20260407T215744Z
UID:145900-1781701200-1781708400@dfsphoenix.org
SUMMARY:Glendale Satellite Studio: Pitch Perfect
DESCRIPTION:RSVP HERE
URL:https://dfsphoenix.org/event/glendale-satellite-studio-pitch-perfect-3/
LOCATION:GESD System of Care Center\, 7677 W Bethany Home Rd\, Phoenix\, AZ\, 85303
CATEGORIES:Glendale Satellite Studio,Pitch Perfect
ORGANIZER;CN="Dress for Success Arizona":MAILTO:services@dressforsuccessphoenix.org
END:VEVENT
BEGIN:VEVENT
DTSTART;TZID=America/Phoenix:20260624T110000
DTEND;TZID=America/Phoenix:20260624T140000
DTSTAMP:20260419T181139
CREATED:20260120T034725Z
LAST-MODIFIED:20260120T034725Z
UID:145300-1782298800-1782309600@dfsphoenix.org
SUMMARY:Fast Track to Career Success: Branding You! Presented By ADP
DESCRIPTION:
URL:https://dfsphoenix.org/event/fast-track-to-career-success-branding-you-presented-by-adp-2/
LOCATION:Dress for Success Arizona\, 3110 N. Central Ave.\, D-200\, Phoenix\, AZ\, 85012
CATEGORIES:Fast Track to Success
ORGANIZER;CN="Dress for Success Arizona":MAILTO:services@dressforsuccessphoenix.org
END:VEVENT
BEGIN:VEVENT
DTSTART;TZID=America/Phoenix:20260812T110000
DTEND;TZID=America/Phoenix:20260812T140000
DTSTAMP:20260419T181139
CREATED:20260120T034827Z
LAST-MODIFIED:20260120T034827Z
UID:145302-1786532400-1786543200@dfsphoenix.org
SUMMARY:Fast Track to Career Success: Nailing Your Interview Presented By ADP
DESCRIPTION:
URL:https://dfsphoenix.org/event/fast-track-to-career-success-nailing-your-interview-presented-by-adp-4/
LOCATION:Dress for Success Arizona\, 3110 N. Central Ave.\, D-200\, Phoenix\, AZ\, 85012
CATEGORIES:Fast Track to Success
ORGANIZER;CN="Dress for Success Arizona":MAILTO:services@dressforsuccessphoenix.org
END:VEVENT
BEGIN:VEVENT
DTSTART;TZID=America/Phoenix:20260819T130000
DTEND;TZID=America/Phoenix:20260819T150000
DTSTAMP:20260419T181139
CREATED:20260407T201901Z
LAST-MODIFIED:20260407T215716Z
UID:145902-1787144400-1787151600@dfsphoenix.org
SUMMARY:Glendale Satellite Studio: Pitch Perfect
DESCRIPTION:RSVP HERE
URL:https://dfsphoenix.org/event/glendale-satellite-studio-pitch-perfect-4/
LOCATION:GESD System of Care Center\, 7677 W Bethany Home Rd\, Phoenix\, AZ\, 85303
CATEGORIES:Glendale Satellite Studio,Pitch Perfect
ORGANIZER;CN="Dress for Success Arizona":MAILTO:services@dressforsuccessphoenix.org
END:VEVENT
BEGIN:VEVENT
DTSTART;TZID=America/Phoenix:20260826T110000
DTEND;TZID=America/Phoenix:20260826T140000
DTSTAMP:20260419T181139
CREATED:20260120T034930Z
LAST-MODIFIED:20260120T034930Z
UID:145304-1787742000-1787752800@dfsphoenix.org
SUMMARY:Fast Track to Career Success: What's Your Next? Presented By ADP
DESCRIPTION:
URL:https://dfsphoenix.org/event/fast-track-to-career-success-whats-your-next-presented-by-adp-2/
LOCATION:Dress for Success Arizona\, 3110 N. Central Ave.\, D-200\, Phoenix\, AZ\, 85012
CATEGORIES:Fast Track to Success
ORGANIZER;CN="Dress for Success Arizona":MAILTO:services@dressforsuccessphoenix.org
END:VEVENT
BEGIN:VEVENT
DTSTART;TZID=America/Phoenix:20260909T110000
DTEND;TZID=America/Phoenix:20260909T140000
DTSTAMP:20260419T181139
CREATED:20260120T035025Z
LAST-MODIFIED:20260120T035025Z
UID:145306-1788951600-1788962400@dfsphoenix.org
SUMMARY:Fast Track to Career Success: Nailing Your Interview Presented By ADP
DESCRIPTION:
URL:https://dfsphoenix.org/event/fast-track-to-career-success-nailing-your-interview-presented-by-adp-5/
LOCATION:Dress for Success Arizona\, 3110 N. Central Ave.\, D-200\, Phoenix\, AZ\, 85012
CATEGORIES:Fast Track to Success
ORGANIZER;CN="Dress for Success Arizona":MAILTO:services@dressforsuccessphoenix.org
END:VEVENT
BEGIN:VEVENT
DTSTART;TZID=America/Phoenix:20260916T130000
DTEND;TZID=America/Phoenix:20260916T150000
DTSTAMP:20260419T181139
CREATED:20260407T202014Z
LAST-MODIFIED:20260407T215654Z
UID:145904-1789563600-1789570800@dfsphoenix.org
SUMMARY:Glendale Satellite Studio: Pitch Perfect
DESCRIPTION:RSVP HERE
URL:https://dfsphoenix.org/event/glendale-satellite-studio-pitch-perfect-5/
LOCATION:GESD System of Care Center\, 7677 W Bethany Home Rd\, Phoenix\, AZ\, 85303
CATEGORIES:Glendale Satellite Studio,Pitch Perfect
ORGANIZER;CN="Dress for Success Arizona":MAILTO:services@dressforsuccessphoenix.org
END:VEVENT
BEGIN:VEVENT
DTSTART;TZID=America/Phoenix:20260923T110000
DTEND;TZID=America/Phoenix:20260923T140000
DTSTAMP:20260419T181139
CREATED:20260120T035140Z
LAST-MODIFIED:20260120T035140Z
UID:145308-1790161200-1790172000@dfsphoenix.org
SUMMARY:Fast Track to Career Success: Put the Muscle In Your Career Presented By ADP
DESCRIPTION:
URL:https://dfsphoenix.org/event/fast-track-to-career-success-put-the-muscle-in-your-career-presented-by-adp-2/
LOCATION:Dress for Success Arizona\, 3110 N. Central Ave.\, D-200\, Phoenix\, AZ\, 85012
CATEGORIES:Fast Track to Success
ORGANIZER;CN="Dress for Success Arizona":MAILTO:services@dressforsuccessphoenix.org
END:VEVENT
BEGIN:VEVENT
DTSTART;TZID=America/Phoenix:20261014T110000
DTEND;TZID=America/Phoenix:20261014T140000
DTSTAMP:20260419T181139
CREATED:20260120T035226Z
LAST-MODIFIED:20260120T035226Z
UID:145310-1791975600-1791986400@dfsphoenix.org
SUMMARY:Fast Track to Career Success: Nailing Your Interview Presented By ADP
DESCRIPTION:
URL:https://dfsphoenix.org/event/fast-track-to-career-success-nailing-your-interview-presented-by-adp-6/
LOCATION:Dress for Success Arizona\, 3110 N. Central Ave.\, D-200\, Phoenix\, AZ\, 85012
CATEGORIES:Fast Track to Success
ORGANIZER;CN="Dress for Success Arizona":MAILTO:services@dressforsuccessphoenix.org
END:VEVENT
BEGIN:VEVENT
DTSTART;TZID=America/Phoenix:20261021T130000
DTEND;TZID=America/Phoenix:20261021T150000
DTSTAMP:20260419T181139
CREATED:20260407T202123Z
LAST-MODIFIED:20260407T215628Z
UID:145906-1792587600-1792594800@dfsphoenix.org
SUMMARY:Glendale Satellite Studio: Pitch Perfect
DESCRIPTION:RSVP HERE
URL:https://dfsphoenix.org/event/glendale-satellite-studio-pitch-perfect-6/
LOCATION:GESD System of Care Center\, 7677 W Bethany Home Rd\, Phoenix\, AZ\, 85303
CATEGORIES:Glendale Satellite Studio,Pitch Perfect
ORGANIZER;CN="Dress for Success Arizona":MAILTO:services@dressforsuccessphoenix.org
END:VEVENT
BEGIN:VEVENT
DTSTART;TZID=America/Phoenix:20261028T110000
DTEND;TZID=America/Phoenix:20261028T140000
DTSTAMP:20260419T181139
CREATED:20260120T035320Z
LAST-MODIFIED:20260120T035320Z
UID:145312-1793185200-1793196000@dfsphoenix.org
SUMMARY:Fast Track to Career Success: What's Your Next? Presented By ADP
DESCRIPTION:
URL:https://dfsphoenix.org/event/fast-track-to-career-success-whats-your-next-presented-by-adp-3/
LOCATION:Dress for Success Arizona\, 3110 N. Central Ave.\, D-200\, Phoenix\, AZ\, 85012
CATEGORIES:Fast Track to Success
ORGANIZER;CN="Dress for Success Arizona":MAILTO:services@dressforsuccessphoenix.org
END:VEVENT
BEGIN:VEVENT
DTSTART;TZID=America/Phoenix:20261111T110000
DTEND;TZID=America/Phoenix:20261111T140000
DTSTAMP:20260419T181139
CREATED:20260120T035409Z
LAST-MODIFIED:20260120T035409Z
UID:145314-1794394800-1794405600@dfsphoenix.org
SUMMARY:Fast Track to Career Success: Nailing Your Interview Presented By ADP
DESCRIPTION:
URL:https://dfsphoenix.org/event/fast-track-to-career-success-nailing-your-interview-presented-by-adp-7/
LOCATION:Dress for Success Arizona\, 3110 N. Central Ave.\, D-200\, Phoenix\, AZ\, 85012
CATEGORIES:Fast Track to Success
ORGANIZER;CN="Dress for Success Arizona":MAILTO:services@dressforsuccessphoenix.org
END:VEVENT
BEGIN:VEVENT
DTSTART;TZID=America/Phoenix:20261118T130000
DTEND;TZID=America/Phoenix:20261118T150000
DTSTAMP:20260419T181139
CREATED:20260407T202241Z
LAST-MODIFIED:20260407T215558Z
UID:145908-1795006800-1795014000@dfsphoenix.org
SUMMARY:Glendale Satellite Studio: Pitch Perfect
DESCRIPTION:RSVP HERE
URL:https://dfsphoenix.org/event/glendale-satellite-studio-pitch-perfect-7/
LOCATION:GESD System of Care Center\, 7677 W Bethany Home Rd\, Phoenix\, AZ\, 85303
CATEGORIES:Glendale Satellite Studio,Pitch Perfect
ORGANIZER;CN="Dress for Success Arizona":MAILTO:services@dressforsuccessphoenix.org
END:VEVENT
BEGIN:VEVENT
DTSTART;TZID=America/Phoenix:20261209T110000
DTEND;TZID=America/Phoenix:20261209T140000
DTSTAMP:20260419T181139
CREATED:20260120T035504Z
LAST-MODIFIED:20260120T035504Z
UID:145316-1796814000-1796824800@dfsphoenix.org
SUMMARY:Fast Track to Career Success: Nailing Your Interview Presented By ADP
DESCRIPTION:
URL:https://dfsphoenix.org/event/fast-track-to-career-success-nailing-your-interview-presented-by-adp-8/
LOCATION:Dress for Success Arizona\, 3110 N. Central Ave.\, D-200\, Phoenix\, AZ\, 85012
CATEGORIES:Fast Track to Success
ORGANIZER;CN="Dress for Success Arizona":MAILTO:services@dressforsuccessphoenix.org
END:VEVENT
END:VCALENDAR