BEGIN:VCALENDAR
VERSION:2.0
PRODID:-//Dress for Success Arizona - ECPv6.15.16//NONSGML v1.0//EN
CALSCALE:GREGORIAN
METHOD:PUBLISH
X-ORIGINAL-URL:https://dfsphoenix.org
X-WR-CALDESC:Events for Dress for Success Arizona
REFRESH-INTERVAL;VALUE=DURATION:PT1H
X-Robots-Tag:noindex
X-PUBLISHED-TTL:PT1H
BEGIN:VTIMEZONE
TZID:America/Phoenix
BEGIN:STANDARD
TZOFFSETFROM:-0700
TZOFFSETTO:-0700
TZNAME:MST
DTSTART:20240101T000000
END:STANDARD
END:VTIMEZONE
BEGIN:VEVENT
DTSTART;TZID=America/Phoenix:20250129T090000
DTEND;TZID=America/Phoenix:20250129T110000
DTSTAMP:20260421T061748
CREATED:20250124T162757Z
LAST-MODIFIED:20250124T162757Z
UID:142491-1738141200-1738148400@dfsphoenix.org
SUMMARY:Bank On Arizona Coalition Launch
DESCRIPTION:As the local host organization\, Dress for Success Phoenix invites you to join Bank On Arizona our upcoming official statewide launch event. This serves as a remarkable milestone in our mission to enhance financial opportunities for individuals and families across Arizona. \nThis event will take place on Wednesday\, January 29th at the Creighton University Health Sciences Campus (3100 N. Central Ave.\, Phoenix\, AZ 85012). The formal program will be from 9:00 am to 11:00 am. Our expo will begin immediately after and last until 2:00 pm. \nWe are hopeful to have the presence of mayors\, civic leaders and community advocates from across the state\, all gathered to celebrate this pivotal step forward in building a stronger financial future for Arizonans. We will also have national representatives from the Cities for Financial Empowerment Fund visiting us to see our progress first-hand. \nOver the past year\, we have worked tirelessly to establish the foundation for this initiative. Through the collective efforts of our Coalition members and partners\, we are now poised to take our mission outward\, fostering public engagement and providing the resources needed for financial empowerment. This launch represents a significant achievement for all of us\, and we are thrilled to share this moment with you. \nTo RSVP\, please email jessica@bankonaz.org. \nAdditionally\, we will be hosting our Economic Empowerment Expo for financial partners and community organizations to showcase their involvement with the Bank On movement. For those interested in participating\, please click here to complete the registration form. \nYour presence and support are vital to the success of this event and our ongoing efforts to strengthen financial inclusion and stability across Arizona. \nShould you have any questions or need further details\, please feel free to reach out to Jessica. \nThank you for your commitment to this shared vision. We look forward to celebrating this momentous occasion together!
URL:https://dfsphoenix.org/event/bank-on-arizona-coalition-launch/
LOCATION:Creighton University Health Sciences Campus\, 3100 N Central Ave\, Phoenix\, AZ\, 85012
CATEGORIES:Bank On Arizona
ATTACH;FMTTYPE=image/png:https://dfsphoenix.org/wp-content/uploads/2025/01/2-Bank-On-Arizona-Expo-2160-x-1080-px.png
ORGANIZER;CN="Bank On Arizona":MAILTO:jessica@bankonaz.org
END:VEVENT
BEGIN:VEVENT
DTSTART;TZID=America/Phoenix:20250129T110000
DTEND;TZID=America/Phoenix:20250129T140000
DTSTAMP:20260421T061748
CREATED:20250124T162530Z
LAST-MODIFIED:20250124T162857Z
UID:142485-1738148400-1738159200@dfsphoenix.org
SUMMARY:Bank On Arizona Economic Empowerment Expo
DESCRIPTION:  \nInterested in becoming a vendor\, click here to register.
URL:https://dfsphoenix.org/event/bank-on-arizona-economic-empowerment-expo/
LOCATION:Creighton University Health Sciences Campus\, 3100 N Central Ave\, Phoenix\, AZ\, 85012
CATEGORIES:Bank On Arizona
ATTACH;FMTTYPE=image/jpeg:https://dfsphoenix.org/wp-content/uploads/2025/01/Bank-On-Arizona-Expo-2160-x-1080-px.jpg
ORGANIZER;CN="Bank On Arizona":MAILTO:jessica@bankonaz.org
END:VEVENT
END:VCALENDAR