BEGIN:VCALENDAR
VERSION:2.0
PRODID:-//Dress for Success Arizona - ECPv6.15.16//NONSGML v1.0//EN
CALSCALE:GREGORIAN
METHOD:PUBLISH
X-ORIGINAL-URL:https://dfsphoenix.org
X-WR-CALDESC:Events for Dress for Success Arizona
REFRESH-INTERVAL;VALUE=DURATION:PT1H
X-Robots-Tag:noindex
X-PUBLISHED-TTL:PT1H
BEGIN:VTIMEZONE
TZID:America/Phoenix
BEGIN:STANDARD
TZOFFSETFROM:-0700
TZOFFSETTO:-0700
TZNAME:MST
DTSTART:20250101T000000
END:STANDARD
END:VTIMEZONE
BEGIN:VEVENT
DTSTART;TZID=America/Phoenix:20260506T110000
DTEND;TZID=America/Phoenix:20260506T140000
DTSTAMP:20260422T113549
CREATED:20260120T034432Z
LAST-MODIFIED:20260120T034432Z
UID:145294-1778065200-1778076000@dfsphoenix.org
SUMMARY:Fast Track to Career Success: Nailing Your Interview Presented By ADP
DESCRIPTION:
URL:https://dfsphoenix.org/event/fast-track-to-career-success-nailing-your-interview-presented-by-adp-2/
LOCATION:Dress for Success Arizona\, 3110 N. Central Ave.\, D-200\, Phoenix\, AZ\, 85012
CATEGORIES:Fast Track to Success
ORGANIZER;CN="Dress for Success Arizona":MAILTO:services@dressforsuccessphoenix.org
END:VEVENT
BEGIN:VEVENT
DTSTART;TZID=America/Phoenix:20260507T110000
DTEND;TZID=America/Phoenix:20260507T123000
DTSTAMP:20260422T113549
CREATED:20260402T202312Z
LAST-MODIFIED:20260402T202312Z
UID:145876-1778151600-1778157000@dfsphoenix.org
SUMMARY:Mobile Career Center: Gilbert Adult Learning Program College & Career Expo
DESCRIPTION:
URL:https://dfsphoenix.org/event/mobile-career-center-gilbert-adult-learning-program-college-career-expo/
LOCATION:GPS Global Academy\, 55 N. Greenfield Rd.\, Gilbert\, AZ\, 85234
CATEGORIES:Mobile Career Center
END:VEVENT
BEGIN:VEVENT
DTSTART;TZID=America/Phoenix:20260509T090000
DTEND;TZID=America/Phoenix:20260509T090000
DTSTAMP:20260422T113549
CREATED:20260402T202548Z
LAST-MODIFIED:20260402T202548Z
UID:145880-1778317200-1778317200@dfsphoenix.org
SUMMARY:Mobile Career Center: Moms and More
DESCRIPTION:
URL:https://dfsphoenix.org/event/mobile-career-center-moms-and-more/
LOCATION:ASU Student Services Building\, 1151 S. Forest Ave.\, Tempe\, AZ\, 85287
CATEGORIES:Mobile Career Center
END:VEVENT
BEGIN:VEVENT
DTSTART;TZID=America/Phoenix:20260512T080000
DTEND;TZID=America/Phoenix:20260512T080000
DTSTAMP:20260422T113549
CREATED:20260402T202732Z
LAST-MODIFIED:20260402T202732Z
UID:145883-1778572800-1778572800@dfsphoenix.org
SUMMARY:Mobile Career Center: Franklin Police & Fire High School
DESCRIPTION:
URL:https://dfsphoenix.org/event/mobile-career-center-franklin-police-fire-high-school/
LOCATION:Franklin Police & Fire High School\, 1645 W McDowell Rd\, Phoenix\, AZ\, 85007
CATEGORIES:Mobile Career Center
END:VEVENT
BEGIN:VEVENT
DTSTART;TZID=America/Phoenix:20260520T110000
DTEND;TZID=America/Phoenix:20260520T140000
DTSTAMP:20260422T113549
CREATED:20260120T034537Z
LAST-MODIFIED:20260120T034537Z
UID:145296-1779274800-1779285600@dfsphoenix.org
SUMMARY:Fast Track to Career Success: ROCK! Your Resumes and Profiles Presented By ADP
DESCRIPTION:
URL:https://dfsphoenix.org/event/fast-track-to-career-success-rock-your-resumes-and-profiles-presented-by-adp/
LOCATION:Dress for Success Arizona\, 3110 N. Central Ave.\, D-200\, Phoenix\, AZ\, 85012
CATEGORIES:Fast Track to Success
ORGANIZER;CN="Dress for Success Arizona":MAILTO:services@dressforsuccessphoenix.org
END:VEVENT
BEGIN:VEVENT
DTSTART;TZID=America/Phoenix:20260520T110000
DTEND;TZID=America/Phoenix:20260520T140000
DTSTAMP:20260422T113549
CREATED:20260402T202858Z
LAST-MODIFIED:20260402T202858Z
UID:145887-1779274800-1779285600@dfsphoenix.org
SUMMARY:Mobile Career Center: Arizona@Work Maricopa County
DESCRIPTION:
URL:https://dfsphoenix.org/event/mobile-career-center-arizonawork-maricopa-county/
LOCATION:Arizona@Work\, 1001 W. Southern Ave.\, Mesa\, AZ\, 85210
CATEGORIES:Mobile Career Center
END:VEVENT
BEGIN:VEVENT
DTSTART;TZID=America/Phoenix:20260520T130000
DTEND;TZID=America/Phoenix:20260520T150000
DTSTAMP:20260422T113549
CREATED:20260407T201623Z
LAST-MODIFIED:20260407T215817Z
UID:145898-1779282000-1779289200@dfsphoenix.org
SUMMARY:Glendale Satellite Studio: Pitch Perfect
DESCRIPTION:  \nRSVP HERE
URL:https://dfsphoenix.org/event/glendale-satellite-studio-pitch-perfect-2/
LOCATION:GESD System of Care Center\, 7677 W Bethany Home Rd\, Phoenix\, AZ\, 85303
CATEGORIES:Glendale Satellite Studio,Pitch Perfect
ORGANIZER;CN="Dress for Success Arizona":MAILTO:services@dressforsuccessphoenix.org
END:VEVENT
END:VCALENDAR