BEGIN:VCALENDAR
VERSION:2.0
PRODID:-//Dress for Success Arizona - ECPv6.15.16//NONSGML v1.0//EN
CALSCALE:GREGORIAN
METHOD:PUBLISH
X-WR-CALNAME:Dress for Success Arizona
X-ORIGINAL-URL:https://dfsphoenix.org
X-WR-CALDESC:Events for Dress for Success Arizona
REFRESH-INTERVAL;VALUE=DURATION:PT1H
X-Robots-Tag:noindex
X-PUBLISHED-TTL:PT1H
BEGIN:VTIMEZONE
TZID:America/Phoenix
BEGIN:STANDARD
TZOFFSETFROM:-0700
TZOFFSETTO:-0700
TZNAME:MST
DTSTART:20250101T000000
END:STANDARD
END:VTIMEZONE
BEGIN:VEVENT
DTSTART;TZID=America/Phoenix:20260422T110000
DTEND;TZID=America/Phoenix:20260422T140000
DTSTAMP:20260422T102032
CREATED:20260120T034320Z
LAST-MODIFIED:20260420T172636Z
UID:145292-1776855600-1776866400@dfsphoenix.org
SUMMARY:CANCELLED: Fast Track to Career Success: Put the Muscle In Your Career
DESCRIPTION:Due to a private event\, Dress for Success Arizona will be cancelling the April 22nd Fast Track event. Thank you for your understanding.
URL:https://dfsphoenix.org/event/fast-track-to-career-success-put-the-muscle-in-your-career-presented-by-adp/
LOCATION:Dress for Success Arizona\, 3110 N. Central Ave.\, D-200\, Phoenix\, AZ\, 85012
CATEGORIES:Fast Track to Success
ORGANIZER;CN="Dress for Success Arizona":MAILTO:services@dressforsuccessphoenix.org
END:VEVENT
BEGIN:VEVENT
DTSTART;TZID=America/Phoenix:20260424T180000
DTEND;TZID=America/Phoenix:20260424T210000
DTSTAMP:20260422T102032
CREATED:20260421T212716Z
LAST-MODIFIED:20260421T212716Z
UID:145950-1777053600-1777064400@dfsphoenix.org
SUMMARY:Mobile Career Center: Cinema Event
DESCRIPTION:
URL:https://dfsphoenix.org/event/mobile-career-center-cinema-event/
LOCATION:Gilbert Civic Center\, 50 E Civic Center Dr\, Gilbert\, AZ\, 85296
CATEGORIES:Mobile Career Center
END:VEVENT
BEGIN:VEVENT
DTSTART;TZID=America/Phoenix:20260428T120000
DTEND;TZID=America/Phoenix:20260428T140000
DTSTAMP:20260422T102032
CREATED:20260421T212835Z
LAST-MODIFIED:20260421T212835Z
UID:145953-1777377600-1777384800@dfsphoenix.org
SUMMARY:Mobile Career Center: LinkedIn Drop In Session (Paradise Valley Community College)
DESCRIPTION:
URL:https://dfsphoenix.org/event/mobile-career-center-linkedin-drop-in-session-paradise-valley-community-college/
LOCATION:Paradise Valley Community College\, 18401 N 32nd St Phoenix\, AZ 85032
CATEGORIES:Mobile Career Center
END:VEVENT
END:VCALENDAR